BEGIN:VCALENDAR
VERSION:2.0
PRODID:-//Waalse Kerk Arnhem - ECPv6.15.20//NONSGML v1.0//EN
CALSCALE:GREGORIAN
METHOD:PUBLISH
X-WR-CALNAME:Waalse Kerk Arnhem
X-ORIGINAL-URL:https://waalsekerkarnhem.nl
X-WR-CALDESC:Evenementen voor Waalse Kerk Arnhem
REFRESH-INTERVAL;VALUE=DURATION:PT1H
X-Robots-Tag:noindex
X-PUBLISHED-TTL:PT1H
BEGIN:VTIMEZONE
TZID:Europe/Amsterdam
BEGIN:DAYLIGHT
TZOFFSETFROM:+0100
TZOFFSETTO:+0200
TZNAME:CEST
DTSTART:20230326T010000
END:DAYLIGHT
BEGIN:STANDARD
TZOFFSETFROM:+0200
TZOFFSETTO:+0100
TZNAME:CET
DTSTART:20231029T010000
END:STANDARD
BEGIN:DAYLIGHT
TZOFFSETFROM:+0100
TZOFFSETTO:+0200
TZNAME:CEST
DTSTART:20240331T010000
END:DAYLIGHT
BEGIN:STANDARD
TZOFFSETFROM:+0200
TZOFFSETTO:+0100
TZNAME:CET
DTSTART:20241027T010000
END:STANDARD
BEGIN:DAYLIGHT
TZOFFSETFROM:+0100
TZOFFSETTO:+0200
TZNAME:CEST
DTSTART:20250330T010000
END:DAYLIGHT
BEGIN:STANDARD
TZOFFSETFROM:+0200
TZOFFSETTO:+0100
TZNAME:CET
DTSTART:20251026T010000
END:STANDARD
END:VTIMEZONE
BEGIN:VEVENT
DTSTART;TZID=Europe/Amsterdam:20240526T170000
DTEND;TZID=Europe/Amsterdam:20240526T180000
DTSTAMP:20260424T231220
CREATED:20231223T113441Z
LAST-MODIFIED:20240525T051103Z
UID:1344-1716742800-1716746400@waalsekerkarnhem.nl
SUMMARY:Kerkdienst - 26/05/2024
DESCRIPTION:Ds. Joost Röselaers gaat in deze dienst voor. De muzikale medewerking is van het Fluit Ensemble Antje Faust.  \n\n\n\nNa de kerkdienst ontmoeten wij elkaar tijdens de vin d’ amitié onder het genot van een drankje. 
URL:https://waalsekerkarnhem.nl/event/kerkdienst-26-05-2024/
LOCATION:Waalse Kerk\, Gasthuisstraat 1\, Arnhem\, 6811 DZ
CATEGORIES:Kerkdiensten
END:VEVENT
BEGIN:VEVENT
DTSTART;TZID=Europe/Amsterdam:20240428T170000
DTEND;TZID=Europe/Amsterdam:20240428T180000
DTSTAMP:20260424T231220
CREATED:20231223T113337Z
LAST-MODIFIED:20240427T153028Z
UID:1340-1714323600-1714327200@waalsekerkarnhem.nl
SUMMARY:Kerkdienst - 28/04/2024
DESCRIPTION:Voorganger: Marco LuijkMuziek: Hennie Jacobs en Katinka Hoek \n\n\n\nNa de kerkdienst ontmoeten wij elkaar tijdens de vin d’ amitié onder het genot van een drankje. 
URL:https://waalsekerkarnhem.nl/event/kerkdienst-28-04-2024/
CATEGORIES:Kerkdiensten
END:VEVENT
END:VCALENDAR