BEGIN:VCALENDAR
VERSION:2.0
PRODID:-//Waalse Kerk Arnhem - ECPv6.15.20//NONSGML v1.0//EN
CALSCALE:GREGORIAN
METHOD:PUBLISH
X-WR-CALNAME:Waalse Kerk Arnhem
X-ORIGINAL-URL:https://waalsekerkarnhem.nl
X-WR-CALDESC:Evenementen voor Waalse Kerk Arnhem
REFRESH-INTERVAL;VALUE=DURATION:PT1H
X-Robots-Tag:noindex
X-PUBLISHED-TTL:PT1H
BEGIN:VTIMEZONE
TZID:Europe/Amsterdam
BEGIN:DAYLIGHT
TZOFFSETFROM:+0100
TZOFFSETTO:+0200
TZNAME:CEST
DTSTART:20230326T010000
END:DAYLIGHT
BEGIN:STANDARD
TZOFFSETFROM:+0200
TZOFFSETTO:+0100
TZNAME:CET
DTSTART:20231029T010000
END:STANDARD
BEGIN:DAYLIGHT
TZOFFSETFROM:+0100
TZOFFSETTO:+0200
TZNAME:CEST
DTSTART:20240331T010000
END:DAYLIGHT
BEGIN:STANDARD
TZOFFSETFROM:+0200
TZOFFSETTO:+0100
TZNAME:CET
DTSTART:20241027T010000
END:STANDARD
BEGIN:DAYLIGHT
TZOFFSETFROM:+0100
TZOFFSETTO:+0200
TZNAME:CEST
DTSTART:20250330T010000
END:DAYLIGHT
BEGIN:STANDARD
TZOFFSETFROM:+0200
TZOFFSETTO:+0100
TZNAME:CET
DTSTART:20251026T010000
END:STANDARD
END:VTIMEZONE
BEGIN:VEVENT
DTSTART;TZID=Europe/Amsterdam:20241027T170000
DTEND;TZID=Europe/Amsterdam:20241027T180000
DTSTAMP:20260424T161237
CREATED:20231223T113849Z
LAST-MODIFIED:20240818T181334Z
UID:1354-1730048400-1730052000@waalsekerkarnhem.nl
SUMMARY:Kerkdienst - 27/10/2024
DESCRIPTION:Voorganger: Ruth van der Waall. \n\n\n\nNa de kerkdienst ontmoeten wij elkaar tijdens de vin d’amitié onder het genot van een drankje. 
URL:https://waalsekerkarnhem.nl/event/kerkdienst-27-10-2024/
LOCATION:Waalse Kerk\, Gasthuisstraat 1\, Arnhem\, 6811 DZ
CATEGORIES:Kerkdiensten
END:VEVENT
BEGIN:VEVENT
DTSTART;TZID=Europe/Amsterdam:20241025T123000
DTEND;TZID=Europe/Amsterdam:20241025T130000
DTSTAMP:20260424T161237
CREATED:20240601T072642Z
LAST-MODIFIED:20240601T074916Z
UID:1450-1729859400-1729861200@waalsekerkarnhem.nl
SUMMARY:Coventry-gebed
DESCRIPTION:Het Coventry-gebed is een gebed om vrede en verzoening; elke vrijdag van 12.30u tot 13.00u. Het Coventry-gebed is een initiatief van de Raad van Kerken Arnhem.
URL:https://waalsekerkarnhem.nl/event/coventry-gebed-21/
LOCATION:Waalse Kerk\, Gasthuisstraat 1\, Arnhem\, 6811 DZ
CATEGORIES:Gemeenteactiviteiten
END:VEVENT
BEGIN:VEVENT
DTSTART;TZID=Europe/Amsterdam:20241018T123000
DTEND;TZID=Europe/Amsterdam:20241018T130000
DTSTAMP:20260424T161237
CREATED:20240601T072612Z
LAST-MODIFIED:20240601T074924Z
UID:1448-1729254600-1729256400@waalsekerkarnhem.nl
SUMMARY:Coventry-gebed
DESCRIPTION:Het Coventry-gebed is een gebed om vrede en verzoening; elke vrijdag van 12.30u tot 13.00u. Het Coventry-gebed is een initiatief van de Raad van Kerken Arnhem.
URL:https://waalsekerkarnhem.nl/event/coventry-gebed-20/
LOCATION:Waalse Kerk\, Gasthuisstraat 1\, Arnhem\, 6811 DZ
CATEGORIES:Gemeenteactiviteiten
END:VEVENT
BEGIN:VEVENT
DTSTART;TZID=Europe/Amsterdam:20241016T200000
DTEND;TZID=Europe/Amsterdam:20241016T213000
DTSTAMP:20260424T161237
CREATED:20240918T065400Z
LAST-MODIFIED:20241027T204059Z
UID:1637-1729108800-1729114200@waalsekerkarnhem.nl
SUMMARY:Dr Herman Kaiser - Jansbeeklezing
DESCRIPTION:Dr Herman Kaiser\, oud burgemeester van Arnhem\, stelt in deze lezing de vraag of het katholieke sociale denken nog van belang is voor onze tijd. Of is dat denken aan een update toe? \n\n\n\nVoor het antwoord op die vraag gaat hij te rade bij twee bronnen: de kerkvader Augustinus (400 n.c) enerzijds en de ontwikkeling van de politieke economie in vooral Europa anderzijds.
URL:https://waalsekerkarnhem.nl/event/dr-herman-kaiser-jansbeeklezing/
LOCATION:Waalse Kerk\, Gasthuisstraat 1\, Arnhem\, 6811 DZ
CATEGORIES:Activiteiten zustergemeenten,Culturele activiteiten
END:VEVENT
BEGIN:VEVENT
DTSTART;TZID=Europe/Amsterdam:20241013T100000
DTEND;TZID=Europe/Amsterdam:20241013T110000
DTSTAMP:20260424T161237
CREATED:20240601T083117Z
LAST-MODIFIED:20240601T083118Z
UID:1502-1728813600-1728817200@waalsekerkarnhem.nl
SUMMARY:Viering OLVékoor
DESCRIPTION:Een viering met een maatschappelijk thema; naast zang (m.n. van Huub Oosterhuis) en (bijbel)teksten\, passend bij het thema\, komt regelmatig een gastspreker aan het woord. Deze viering is een initiatief van de Jansbeek ekklesia.
URL:https://waalsekerkarnhem.nl/event/viering-olvekoor-2/
LOCATION:Waalse Kerk\, Gasthuisstraat 1\, Arnhem\, 6811 DZ
CATEGORIES:Activiteiten zustergemeenten
END:VEVENT
BEGIN:VEVENT
DTSTART;TZID=Europe/Amsterdam:20241011T123000
DTEND;TZID=Europe/Amsterdam:20241011T130000
DTSTAMP:20260424T161237
CREATED:20240601T072551Z
LAST-MODIFIED:20240601T074933Z
UID:1446-1728649800-1728651600@waalsekerkarnhem.nl
SUMMARY:Coventry-gebed
DESCRIPTION:Het Coventry-gebed is een gebed om vrede en verzoening; elke vrijdag van 12.30u tot 13.00u. Het Coventry-gebed is een initiatief van de Raad van Kerken Arnhem.
URL:https://waalsekerkarnhem.nl/event/coventry-gebed-19/
LOCATION:Waalse Kerk\, Gasthuisstraat 1\, Arnhem\, 6811 DZ
CATEGORIES:Gemeenteactiviteiten
END:VEVENT
BEGIN:VEVENT
DTSTART;TZID=Europe/Amsterdam:20241006T170000
DTEND;TZID=Europe/Amsterdam:20241006T180000
DTSTAMP:20260424T161237
CREATED:20240601T075527Z
LAST-MODIFIED:20240601T075528Z
UID:1483-1728234000-1728237600@waalsekerkarnhem.nl
SUMMARY:Vesperviering
DESCRIPTION:De vespers zijn een onderdeel van het getijdengebed\, een meditatieve gebedsvorm die men in de kloosters beoefent. Door samen de psalmen te zingen\, te luisteren naar orgelmuziek en in stilte te mediteren is er ruimte voor bezinning en ontstaat een sfeer van verbondenheid en harmonie. \n\n\n\nDe vespervieringen zijn een initiatief van de Jansbeek ekklesia.
URL:https://waalsekerkarnhem.nl/event/vesperviering-5/
LOCATION:Waalse Kerk\, Gasthuisstraat 1\, Arnhem\, 6811 DZ
CATEGORIES:Activiteiten zustergemeenten
END:VEVENT
BEGIN:VEVENT
DTSTART;TZID=Europe/Amsterdam:20241004T123000
DTEND;TZID=Europe/Amsterdam:20241004T130000
DTSTAMP:20260424T161237
CREATED:20240601T072528Z
LAST-MODIFIED:20240601T074941Z
UID:1444-1728045000-1728046800@waalsekerkarnhem.nl
SUMMARY:Coventry-gebed
DESCRIPTION:Het Coventry-gebed is een gebed om vrede en verzoening; elke vrijdag van 12.30u tot 13.00u. Het Coventry-gebed is een initiatief van de Raad van Kerken Arnhem.
URL:https://waalsekerkarnhem.nl/event/coventry-gebed-18/
LOCATION:Waalse Kerk\, Gasthuisstraat 1\, Arnhem\, 6811 DZ
CATEGORIES:Gemeenteactiviteiten
END:VEVENT
BEGIN:VEVENT
DTSTART;TZID=Europe/Amsterdam:20240929T121500
DTEND;TZID=Europe/Amsterdam:20240929T140000
DTSTAMP:20260424T161237
CREATED:20240823T141733Z
LAST-MODIFIED:20240823T141735Z
UID:1601-1727612100-1727618400@waalsekerkarnhem.nl
SUMMARY:Dienst ​Evangelische Broedergemeente
DESCRIPTION:Dit is een kerkdienst van de ​Evangelische Broedergemeente.
URL:https://waalsekerkarnhem.nl/event/dienst-evangelische-broedergemeente-4/
LOCATION:Waalse Kerk\, Gasthuisstraat 1\, Arnhem\, 6811 DZ
CATEGORIES:Activiteiten zustergemeenten
END:VEVENT
BEGIN:VEVENT
DTSTART;TZID=Europe/Amsterdam:20240927T123000
DTEND;TZID=Europe/Amsterdam:20240927T130000
DTSTAMP:20260424T161237
CREATED:20240601T072503Z
LAST-MODIFIED:20240601T074950Z
UID:1442-1727440200-1727442000@waalsekerkarnhem.nl
SUMMARY:Coventry-gebed
DESCRIPTION:Het Coventry-gebed is een gebed om vrede en verzoening; elke vrijdag van 12.30u tot 13.00u. Het Coventry-gebed is een initiatief van de Raad van Kerken Arnhem.
URL:https://waalsekerkarnhem.nl/event/coventry-gebed-17/
LOCATION:Waalse Kerk\, Gasthuisstraat 1\, Arnhem\, 6811 DZ
CATEGORIES:Gemeenteactiviteiten
END:VEVENT
BEGIN:VEVENT
DTSTART;TZID=Europe/Amsterdam:20240922T170000
DTEND;TZID=Europe/Amsterdam:20240922T180000
DTSTAMP:20260424T161237
CREATED:20231223T113803Z
LAST-MODIFIED:20240916T173135Z
UID:1352-1727024400-1727028000@waalsekerkarnhem.nl
SUMMARY:Kerkdienst - 22/09/2024
DESCRIPTION:Ds. Joost Röselaers\, vanaf 1 september predikant in de Waalse kerken van Amsterdam en Haarlem gaat in deze kerkdienst voor.  \n\n\n\nDe muzikale medewerking is van het Vocaal Theologen Ensemble. Wim Roelfsema speelt op het orgel.  \n\n\n\nNa de kerkdienst ontmoeten wij elkaar tijdens de vin d’amitié onder het genot van een drankje.
URL:https://waalsekerkarnhem.nl/event/kerkdienst-22-09-2024/
LOCATION:Waalse Kerk\, Gasthuisstraat 1\, Arnhem\, 6811 DZ
CATEGORIES:Kerkdiensten
END:VEVENT
BEGIN:VEVENT
DTSTART;TZID=Europe/Amsterdam:20240922T121500
DTEND;TZID=Europe/Amsterdam:20240922T140000
DTSTAMP:20260424T161237
CREATED:20240823T141702Z
LAST-MODIFIED:20240823T141703Z
UID:1599-1727007300-1727013600@waalsekerkarnhem.nl
SUMMARY:Dienst ​Evangelische Broedergemeente
DESCRIPTION:Dit is een kerkdienst van de ​Evangelische Broedergemeente.
URL:https://waalsekerkarnhem.nl/event/dienst-evangelische-broedergemeente-3/
LOCATION:Waalse Kerk\, Gasthuisstraat 1\, Arnhem\, 6811 DZ
CATEGORIES:Activiteiten zustergemeenten
END:VEVENT
BEGIN:VEVENT
DTSTART;TZID=Europe/Amsterdam:20240920T123000
DTEND;TZID=Europe/Amsterdam:20240920T130000
DTSTAMP:20260424T161237
CREATED:20240601T072439Z
LAST-MODIFIED:20240601T074956Z
UID:1440-1726835400-1726837200@waalsekerkarnhem.nl
SUMMARY:Coventry-gebed
DESCRIPTION:Het Coventry-gebed is een gebed om vrede en verzoening; elke vrijdag van 12.30u tot 13.00u. Het Coventry-gebed is een initiatief van de Raad van Kerken Arnhem.
URL:https://waalsekerkarnhem.nl/event/coventry-gebed-16/
LOCATION:Waalse Kerk\, Gasthuisstraat 1\, Arnhem\, 6811 DZ
CATEGORIES:Gemeenteactiviteiten
END:VEVENT
BEGIN:VEVENT
DTSTART;TZID=Europe/Amsterdam:20240918T093000
DTEND;TZID=Europe/Amsterdam:20240918T130000
DTSTAMP:20260424T161237
CREATED:20240823T141223Z
LAST-MODIFIED:20240823T141226Z
UID:1591-1726651800-1726664400@waalsekerkarnhem.nl
SUMMARY:Pelgrimsviering
DESCRIPTION:Eens in de maand op een woensdag organiseert de Doopsgezinde gemeente een pelgrimsviering.  \n\n\n\nProgramma:Vanaf 9.00 uur: Welkom\, binnenkomen in stilte9.30 uur: Meditatieve viering van een half uur10.00 uur: Koffie en thee 10.30 uur: Wandeling naar en in Park Sonsbeek in stilte en al pratend weer terug naar de Waalse kerk12.00 uur: Potluck lunch en nagesprek13.00 uur: Afronding \n\n\n\nBijzonderheden:  We eindigen met een potluck lunch\, dus we vragen aan iedereen wat te eten mee te brengen. We vragen een vrijwillige bijdrage voor de gemaakte kosten\, richtbedrag 5 euro.Aanmelden graag\, (maar hoeft niet per se) bij Aly Meijer per mail of telefoon 06-26493146.
URL:https://waalsekerkarnhem.nl/event/pelgrimsviering-4/
LOCATION:Waalse Kerk\, Gasthuisstraat 1\, Arnhem\, 6811 DZ
CATEGORIES:Activiteiten zustergemeenten
END:VEVENT
BEGIN:VEVENT
DTSTART;TZID=Europe/Amsterdam:20240915T121500
DTEND;TZID=Europe/Amsterdam:20240915T140000
DTSTAMP:20260424T161237
CREATED:20240823T141620Z
LAST-MODIFIED:20240823T141622Z
UID:1596-1726402500-1726408800@waalsekerkarnhem.nl
SUMMARY:Dienst ​Evangelische Broedergemeente
DESCRIPTION:Dit is een kerkdienst van de ​Evangelische Broedergemeente.
URL:https://waalsekerkarnhem.nl/event/dienst-evangelische-broedergemeente-2/
LOCATION:Waalse Kerk\, Gasthuisstraat 1\, Arnhem\, 6811 DZ
CATEGORIES:Activiteiten zustergemeenten
END:VEVENT
BEGIN:VEVENT
DTSTART;TZID=Europe/Amsterdam:20240915T100000
DTEND;TZID=Europe/Amsterdam:20240915T110000
DTSTAMP:20260424T161237
CREATED:20240823T141054Z
LAST-MODIFIED:20240823T141056Z
UID:1589-1726394400-1726398000@waalsekerkarnhem.nl
SUMMARY:Kerkdienst Doopsgezinden
DESCRIPTION:Dit is een kerkdienst van de Doopsgezinde gemeente Arnhem. \n\n\n\nVoorganger: Aly Meijer
URL:https://waalsekerkarnhem.nl/event/kerkdienst-doopsgezinden-3/
LOCATION:Waalse Kerk\, Gasthuisstraat 1\, Arnhem\, 6811 DZ
CATEGORIES:Activiteiten zustergemeenten
END:VEVENT
BEGIN:VEVENT
DTSTART;TZID=Europe/Amsterdam:20240914T100000
DTEND;TZID=Europe/Amsterdam:20240914T170000
DTSTAMP:20260424T161237
CREATED:20240826T174304Z
LAST-MODIFIED:20250906T093813Z
UID:1323-1726308000-1726333200@waalsekerkarnhem.nl
SUMMARY:Open Monumentendag
DESCRIPTION:De Waalse kerk doet ook dit jaar weer mee met de Open Monumentendag! \n\n\n\nHet is een uitstekende gelegenheid onze kerk onder de aandacht te brengen. We mogen ons ieder jaar op veel belangstelling verheugen. Uiteraard hopen wij dat het dit jaar ook zo zal zijn. \n\n\n\nIn het kader van het Europese thema: ‘Routes\, netwerken en verbindingen’ zal de geschiedenis van de protestantse gemeenschappen die 450 jaar geleden in onder andere in deze Église Wallonne een veilige plek vonden\, gedurende deze dag belicht worden.  \n\n\n\nIn het heden is deze Waalse kerk als gebouw het thuis geworden van meerdere geloofsgemeenschappen. We noemen Jansbeek ekklesia\, Doopsgezinden\, Evangelische Broeder Gemeente. De kerk staat letterlijk en figuurlijk open voor andere gezindten. Ook deze ontwikkeling zal tijdens de Open Monumentendag aan de orde komen. \n\n\n\nDe kerk biedt ook plek aan culturele activiteiten. \n\n\n\nProgramma\n\n\n\n11:00 uur èn12:00 uur Jan Olimulder verzorgt een lezing over: De Moderne DevotieChronologisch Overzicht Waalse Kerk Arnhem 14u-15u Dubbelkwartet Enchanté en Trio Nadaillac\, spelen:Gjello\, Sibelius en Górecki en trio’s van Rowley en Glinka N.B.: De ensembles Dubbelkwartet Enchanté en Trio Nadaillac zijn gevormd uit Arnhem Sinfoniëtta. Gedurende de dag zal eveneens de digitale visualisatie van het toenmalige Agnietenklooster worden vertoond.
URL:https://waalsekerkarnhem.nl/event/open-monumentendag-2024/
LOCATION:Waalse Kerk\, Gasthuisstraat 1\, Arnhem\, 6811 DZ
CATEGORIES:Culturele activiteiten
END:VEVENT
BEGIN:VEVENT
DTSTART;TZID=Europe/Amsterdam:20240913T123000
DTEND;TZID=Europe/Amsterdam:20240913T130000
DTSTAMP:20260424T161237
CREATED:20240601T072416Z
LAST-MODIFIED:20240601T075004Z
UID:1438-1726230600-1726232400@waalsekerkarnhem.nl
SUMMARY:Coventry-gebed
DESCRIPTION:Het Coventry-gebed is een gebed om vrede en verzoening; elke vrijdag van 12.30u tot 13.00u. Het Coventry-gebed is een initiatief van de Raad van Kerken Arnhem.
URL:https://waalsekerkarnhem.nl/event/coventry-gebed-15/
LOCATION:Waalse Kerk\, Gasthuisstraat 1\, Arnhem\, 6811 DZ
CATEGORIES:Gemeenteactiviteiten
END:VEVENT
BEGIN:VEVENT
DTSTART;TZID=Europe/Amsterdam:20240908T121500
DTEND;TZID=Europe/Amsterdam:20240908T140000
DTSTAMP:20260424T161237
CREATED:20240823T141519Z
LAST-MODIFIED:20240823T141537Z
UID:1594-1725797700-1725804000@waalsekerkarnhem.nl
SUMMARY:Dienst ​Evangelische Broedergemeente
DESCRIPTION:Dit is een kerkdienst van de ​Evangelische Broedergemeente.
URL:https://waalsekerkarnhem.nl/event/dienst-evangelische-broedergemeente/
LOCATION:Waalse Kerk\, Gasthuisstraat 1\, Arnhem\, 6811 DZ
CATEGORIES:Activiteiten zustergemeenten
END:VEVENT
BEGIN:VEVENT
DTSTART;TZID=Europe/Amsterdam:20240908T100000
DTEND;TZID=Europe/Amsterdam:20240908T110000
DTSTAMP:20260424T161237
CREATED:20240601T083003Z
LAST-MODIFIED:20240601T083005Z
UID:1500-1725789600-1725793200@waalsekerkarnhem.nl
SUMMARY:Viering OLVékoor
DESCRIPTION:Een viering met een maatschappelijk thema; naast zang (m.n. van Huub Oosterhuis) en (bijbel)teksten\, passend bij het thema\, komt regelmatig een gastspreker aan het woord. Deze viering is een initiatief van de Jansbeek ekklesia.
URL:https://waalsekerkarnhem.nl/event/viering-olvekoor/
LOCATION:Waalse Kerk\, Gasthuisstraat 1\, Arnhem\, 6811 DZ
CATEGORIES:Activiteiten zustergemeenten
END:VEVENT
BEGIN:VEVENT
DTSTART;TZID=Europe/Amsterdam:20240906T123000
DTEND;TZID=Europe/Amsterdam:20240906T130000
DTSTAMP:20260424T161237
CREATED:20240601T072343Z
LAST-MODIFIED:20240601T075012Z
UID:1436-1725625800-1725627600@waalsekerkarnhem.nl
SUMMARY:Coventry-gebed
DESCRIPTION:Het Coventry-gebed is een gebed om vrede en verzoening; elke vrijdag van 12.30u tot 13.00u. Het Coventry-gebed is een initiatief van de Raad van Kerken Arnhem.
URL:https://waalsekerkarnhem.nl/event/coventry-gebed-14/
LOCATION:Waalse Kerk\, Gasthuisstraat 1\, Arnhem\, 6811 DZ
CATEGORIES:Gemeenteactiviteiten
END:VEVENT
BEGIN:VEVENT
DTSTART;TZID=Europe/Amsterdam:20240901T110000
DTEND;TZID=Europe/Amsterdam:20240901T160000
DTSTAMP:20260424T161237
CREATED:20240822T120722Z
LAST-MODIFIED:20240823T140906Z
UID:1585-1725188400-1725206400@waalsekerkarnhem.nl
SUMMARY:Startzondag Doopsgezinden
DESCRIPTION:Startzondag van de Doopsgezinde gemeente Arnhem.
URL:https://waalsekerkarnhem.nl/event/kerkdienst-doopsgezinden-2/
CATEGORIES:Activiteiten zustergemeenten
END:VEVENT
BEGIN:VEVENT
DTSTART;TZID=Europe/Amsterdam:20240830T123000
DTEND;TZID=Europe/Amsterdam:20240830T130000
DTSTAMP:20260424T161237
CREATED:20240601T072315Z
LAST-MODIFIED:20240601T075018Z
UID:1434-1725021000-1725022800@waalsekerkarnhem.nl
SUMMARY:Coventry-gebed
DESCRIPTION:Het Coventry-gebed is een gebed om vrede en verzoening; elke vrijdag van 12.30u tot 13.00u. Het Coventry-gebed is een initiatief van de Raad van Kerken Arnhem.
URL:https://waalsekerkarnhem.nl/event/coventry-gebed-13/
LOCATION:Waalse Kerk\, Gasthuisstraat 1\, Arnhem\, 6811 DZ
CATEGORIES:Gemeenteactiviteiten
END:VEVENT
BEGIN:VEVENT
DTSTART;TZID=Europe/Amsterdam:20240828T093000
DTEND;TZID=Europe/Amsterdam:20240828T130000
DTSTAMP:20260424T161237
CREATED:20240822T120304Z
LAST-MODIFIED:20240822T120356Z
UID:1581-1724837400-1724850000@waalsekerkarnhem.nl
SUMMARY:Pelgrimsviering
DESCRIPTION:Eens in de maand op een woensdag organiseert de Doopsgezinde gemeente een pelgrimsviering.  \n\n\n\nProgramma:Vanaf 9.00 uur: Welkom\, binnenkomen in stilte9.30 uur: Meditatieve viering van een half uur10.00 uur: Koffie en thee 10.30 uur: Wandeling naar en in Park Sonsbeek in stilte en al pratend weer terug naar de Waalse kerk12.00 uur: Potluck lunch en nagesprek13.00 uur: Afronding \n\n\n\nBijzonderheden:  We eindigen met een potluck lunch\, dus we vragen aan iedereen wat te eten mee te brengen. We vragen een vrijwillige bijdrage voor de gemaakte kosten\, richtbedrag 5 euro.Aanmelden graag\, (maar hoeft niet per se) bij Aly Meijer per mail of telefoon 06-26493146.
URL:https://waalsekerkarnhem.nl/event/pelgrimsviering-3/
LOCATION:Waalse Kerk\, Gasthuisstraat 1\, Arnhem\, 6811 DZ
CATEGORIES:Activiteiten zustergemeenten
END:VEVENT
BEGIN:VEVENT
DTSTART;TZID=Europe/Amsterdam:20240823T123000
DTEND;TZID=Europe/Amsterdam:20240823T130000
DTSTAMP:20260424T161237
CREATED:20240601T072248Z
LAST-MODIFIED:20240601T075025Z
UID:1432-1724416200-1724418000@waalsekerkarnhem.nl
SUMMARY:Coventry-gebed
DESCRIPTION:Het Coventry-gebed is een gebed om vrede en verzoening; elke vrijdag van 12.30u tot 13.00u. Het Coventry-gebed is een initiatief van de Raad van Kerken Arnhem.
URL:https://waalsekerkarnhem.nl/event/coventry-gebed-12/
LOCATION:Waalse Kerk\, Gasthuisstraat 1\, Arnhem\, 6811 DZ
CATEGORIES:Gemeenteactiviteiten
END:VEVENT
BEGIN:VEVENT
DTSTART;TZID=Europe/Amsterdam:20240818T101500
DTEND;TZID=Europe/Amsterdam:20240818T111500
DTSTAMP:20260424T161237
CREATED:20231223T113719Z
LAST-MODIFIED:20240811T124027Z
UID:1350-1723976100-1723979700@waalsekerkarnhem.nl
SUMMARY:Zomerdienst - 18/08/2024
DESCRIPTION:De voorganger is ds Joanne Vrijhof. Joanne is nog niet zo lang geleden als theologe afgestudeerd. Afgelopen jaar is zij al een keer eerder bij ons in een franstalige kerkdienst voorgegaan.  \n\n\n\nWim Roelfsema speelt op het orgel en zijn orgelspel wordt ondersteund door de trombonist Dick Bolt. \n\n\n\nDeze dienst is een gezamenlijke dienst van de Protestantse gemeenten in Arnhem. 
URL:https://waalsekerkarnhem.nl/event/kerkdienst-18-08-2024/
CATEGORIES:Kerkdiensten
END:VEVENT
BEGIN:VEVENT
DTSTART;TZID=Europe/Amsterdam:20240818T100000
DTEND;TZID=Europe/Amsterdam:20240818T110000
DTSTAMP:20260424T161237
CREATED:20240614T040055Z
LAST-MODIFIED:20240614T040056Z
UID:1551-1723975200-1723978800@waalsekerkarnhem.nl
SUMMARY:Gezamenlijke zomerdienst
DESCRIPTION:Waalse gemeente in de Eusebiuskerk: voorganger ds. Joanne Vrijhof. Organist: Wim Roelfsema (Nederlandstalig).
URL:https://waalsekerkarnhem.nl/event/gezamenlijke-zomerdienst-4/
CATEGORIES:Activiteiten zustergemeenten,Gemeenteactiviteiten
END:VEVENT
BEGIN:VEVENT
DTSTART;TZID=Europe/Amsterdam:20240816T123000
DTEND;TZID=Europe/Amsterdam:20240816T130000
DTSTAMP:20260424T161237
CREATED:20240601T072207Z
LAST-MODIFIED:20240601T075039Z
UID:1430-1723811400-1723813200@waalsekerkarnhem.nl
SUMMARY:Coventry-gebed
DESCRIPTION:Het Coventry-gebed is een gebed om vrede en verzoening; elke vrijdag van 12.30u tot 13.00u. Het Coventry-gebed is een initiatief van de Raad van Kerken Arnhem.
URL:https://waalsekerkarnhem.nl/event/coventry-gebed-11/
LOCATION:Waalse Kerk\, Gasthuisstraat 1\, Arnhem\, 6811 DZ
CATEGORIES:Gemeenteactiviteiten
END:VEVENT
BEGIN:VEVENT
DTSTART;TZID=Europe/Amsterdam:20240811T100000
DTEND;TZID=Europe/Amsterdam:20240811T110000
DTSTAMP:20260424T161237
CREATED:20240614T035843Z
LAST-MODIFIED:20240614T035844Z
UID:1546-1723370400-1723374000@waalsekerkarnhem.nl
SUMMARY:Gezamenlijke zomerdienst
DESCRIPTION:Jansbeek ekklesia met een Laudenviering in de Waalse Kerk. M.m.v. Laudenkoor en Alexander Saladin\, orgel.
URL:https://waalsekerkarnhem.nl/event/gezamenlijke-zomerdienst-3/
LOCATION:Waalse Kerk\, Gasthuisstraat 1\, Arnhem\, 6811 DZ
CATEGORIES:Activiteiten zustergemeenten,Gemeenteactiviteiten
END:VEVENT
BEGIN:VEVENT
DTSTART;TZID=Europe/Amsterdam:20240809T123000
DTEND;TZID=Europe/Amsterdam:20240809T130000
DTSTAMP:20260424T161237
CREATED:20240601T072142Z
LAST-MODIFIED:20240601T075049Z
UID:1428-1723206600-1723208400@waalsekerkarnhem.nl
SUMMARY:Coventry-gebed
DESCRIPTION:Het Coventry-gebed is een gebed om vrede en verzoening; elke vrijdag van 12.30u tot 13.00u. Het Coventry-gebed is een initiatief van de Raad van Kerken Arnhem.
URL:https://waalsekerkarnhem.nl/event/coventry-gebed-10/
LOCATION:Waalse Kerk\, Gasthuisstraat 1\, Arnhem\, 6811 DZ
CATEGORIES:Gemeenteactiviteiten
END:VEVENT
END:VCALENDAR