BEGIN:VCALENDAR
VERSION:2.0
PRODID:-//Waalse Kerk Arnhem - ECPv6.15.20//NONSGML v1.0//EN
CALSCALE:GREGORIAN
METHOD:PUBLISH
X-WR-CALNAME:Waalse Kerk Arnhem
X-ORIGINAL-URL:https://waalsekerkarnhem.nl
X-WR-CALDESC:Evenementen voor Waalse Kerk Arnhem
REFRESH-INTERVAL;VALUE=DURATION:PT1H
X-Robots-Tag:noindex
X-PUBLISHED-TTL:PT1H
BEGIN:VTIMEZONE
TZID:Europe/Amsterdam
BEGIN:DAYLIGHT
TZOFFSETFROM:+0100
TZOFFSETTO:+0200
TZNAME:CEST
DTSTART:20240331T010000
END:DAYLIGHT
BEGIN:STANDARD
TZOFFSETFROM:+0200
TZOFFSETTO:+0100
TZNAME:CET
DTSTART:20241027T010000
END:STANDARD
BEGIN:DAYLIGHT
TZOFFSETFROM:+0100
TZOFFSETTO:+0200
TZNAME:CEST
DTSTART:20250330T010000
END:DAYLIGHT
BEGIN:STANDARD
TZOFFSETFROM:+0200
TZOFFSETTO:+0100
TZNAME:CET
DTSTART:20251026T010000
END:STANDARD
BEGIN:DAYLIGHT
TZOFFSETFROM:+0100
TZOFFSETTO:+0200
TZNAME:CEST
DTSTART:20260329T010000
END:DAYLIGHT
BEGIN:STANDARD
TZOFFSETFROM:+0200
TZOFFSETTO:+0100
TZNAME:CET
DTSTART:20261025T010000
END:STANDARD
END:VTIMEZONE
BEGIN:VEVENT
DTSTART;TZID=Europe/Amsterdam:20250829T123000
DTEND;TZID=Europe/Amsterdam:20250829T130000
DTSTAMP:20260424T005934
CREATED:20250831T163503Z
LAST-MODIFIED:20250831T163504Z
UID:2364-1756470600-1756472400@waalsekerkarnhem.nl
SUMMARY:Coventry-gebed
DESCRIPTION:Het Coventry-gebed is een gebed om vrede en verzoening; elke vrijdag van 12.30u tot 13.00u. Het Coventry-gebed is een initiatief van de Raad van Kerken Arnhem.
URL:https://waalsekerkarnhem.nl/event/coventry-gebed-66/
LOCATION:Waalse Kerk\, Gasthuisstraat 1\, Arnhem\, 6811 DZ
CATEGORIES:Gemeenteactiviteiten
END:VEVENT
BEGIN:VEVENT
DTSTART;TZID=Europe/Amsterdam:20250822T123000
DTEND;TZID=Europe/Amsterdam:20250822T130000
DTSTAMP:20260424T005934
CREATED:20250831T163428Z
LAST-MODIFIED:20250831T163429Z
UID:2362-1755865800-1755867600@waalsekerkarnhem.nl
SUMMARY:Coventry-gebed
DESCRIPTION:Het Coventry-gebed is een gebed om vrede en verzoening; elke vrijdag van 12.30u tot 13.00u. Het Coventry-gebed is een initiatief van de Raad van Kerken Arnhem.
URL:https://waalsekerkarnhem.nl/event/coventry-gebed-65/
LOCATION:Waalse Kerk\, Gasthuisstraat 1\, Arnhem\, 6811 DZ
CATEGORIES:Gemeenteactiviteiten
END:VEVENT
BEGIN:VEVENT
DTSTART;TZID=Europe/Amsterdam:20250817T100000
DTEND;TZID=Europe/Amsterdam:20250817T110000
DTSTAMP:20260424T005934
CREATED:20241030T151015Z
LAST-MODIFIED:20250225T114133Z
UID:1694-1755424800-1755428400@waalsekerkarnhem.nl
SUMMARY:Kerkdienst - 17/08/2025
DESCRIPTION:Dit is een Nederlandstalige dienst in de Eusebiuskerk\, onderdeel van de gezamenlijke zomerdiensten met de Doopsgezinde gemeente Arnhem en de Parkstraatgemeente.
URL:https://waalsekerkarnhem.nl/event/kerkdienst-27-07-2025-2/
CATEGORIES:Kerkdiensten
ATTACH;FMTTYPE=image/jpeg:https://waalsekerkarnhem.nl/wp-content/uploads/2024/10/event-Eusebius.jpg
END:VEVENT
BEGIN:VEVENT
DTSTART;TZID=Europe/Amsterdam:20250815T123000
DTEND;TZID=Europe/Amsterdam:20250815T130000
DTSTAMP:20260424T005934
CREATED:20250831T163401Z
LAST-MODIFIED:20250831T163402Z
UID:2360-1755261000-1755262800@waalsekerkarnhem.nl
SUMMARY:Coventry-gebed
DESCRIPTION:Het Coventry-gebed is een gebed om vrede en verzoening; elke vrijdag van 12.30u tot 13.00u. Het Coventry-gebed is een initiatief van de Raad van Kerken Arnhem.
URL:https://waalsekerkarnhem.nl/event/coventry-gebed-64/
LOCATION:Waalse Kerk\, Gasthuisstraat 1\, Arnhem\, 6811 DZ
CATEGORIES:Gemeenteactiviteiten
END:VEVENT
BEGIN:VEVENT
DTSTART;TZID=Europe/Amsterdam:20250808T123000
DTEND;TZID=Europe/Amsterdam:20250808T130000
DTSTAMP:20260424T005934
CREATED:20250831T163332Z
LAST-MODIFIED:20250831T163333Z
UID:2358-1754656200-1754658000@waalsekerkarnhem.nl
SUMMARY:Coventry-gebed
DESCRIPTION:Het Coventry-gebed is een gebed om vrede en verzoening; elke vrijdag van 12.30u tot 13.00u. Het Coventry-gebed is een initiatief van de Raad van Kerken Arnhem.
URL:https://waalsekerkarnhem.nl/event/coventry-gebed-63/
LOCATION:Waalse Kerk\, Gasthuisstraat 1\, Arnhem\, 6811 DZ
CATEGORIES:Gemeenteactiviteiten
END:VEVENT
BEGIN:VEVENT
DTSTART;TZID=Europe/Amsterdam:20250801T123000
DTEND;TZID=Europe/Amsterdam:20250801T130000
DTSTAMP:20260424T005934
CREATED:20250831T163302Z
LAST-MODIFIED:20250831T163303Z
UID:2356-1754051400-1754053200@waalsekerkarnhem.nl
SUMMARY:Coventry-gebed
DESCRIPTION:Het Coventry-gebed is een gebed om vrede en verzoening; elke vrijdag van 12.30u tot 13.00u. Het Coventry-gebed is een initiatief van de Raad van Kerken Arnhem.
URL:https://waalsekerkarnhem.nl/event/coventry-gebed-62/
LOCATION:Waalse Kerk\, Gasthuisstraat 1\, Arnhem\, 6811 DZ
CATEGORIES:Gemeenteactiviteiten
END:VEVENT
BEGIN:VEVENT
DTSTART;TZID=Europe/Amsterdam:20250727T170000
DTEND;TZID=Europe/Amsterdam:20250727T180000
DTSTAMP:20260424T005934
CREATED:20241030T145918Z
LAST-MODIFIED:20250225T114205Z
UID:1674-1753635600-1753639200@waalsekerkarnhem.nl
SUMMARY:Kerkdienst - 27/07/2025
DESCRIPTION:Voorganger: Joanne Vrijhof \n\n\n\nDit is een Nederlandstalige dienst\, onderdeel van de gezamenlijke zomerdiensten met de Doopsgezinde gemeente Arnhem en de Parkstraatgemeente. \n\n\n\nNa de kerkdienst ontmoeten wij elkaar tijdens de vin d’amitié onder het genot van een drankje. 
URL:https://waalsekerkarnhem.nl/event/kerkdienst-27-07-2025/
LOCATION:Waalse Kerk\, Gasthuisstraat 1\, Arnhem\, 6811 DZ
CATEGORIES:Kerkdiensten
ATTACH;FMTTYPE=image/jpeg:https://waalsekerkarnhem.nl/wp-content/uploads/2024/10/Event-Joanne.jpg
END:VEVENT
BEGIN:VEVENT
DTSTART;TZID=Europe/Amsterdam:20250725T123000
DTEND;TZID=Europe/Amsterdam:20250725T130000
DTSTAMP:20260424T005934
CREATED:20250831T163231Z
LAST-MODIFIED:20250831T163232Z
UID:2354-1753446600-1753448400@waalsekerkarnhem.nl
SUMMARY:Coventry-gebed
DESCRIPTION:Het Coventry-gebed is een gebed om vrede en verzoening; elke vrijdag van 12.30u tot 13.00u. Het Coventry-gebed is een initiatief van de Raad van Kerken Arnhem.
URL:https://waalsekerkarnhem.nl/event/coventry-gebed-61/
LOCATION:Waalse Kerk\, Gasthuisstraat 1\, Arnhem\, 6811 DZ
CATEGORIES:Gemeenteactiviteiten
END:VEVENT
BEGIN:VEVENT
DTSTART;TZID=Europe/Amsterdam:20250718T123000
DTEND;TZID=Europe/Amsterdam:20250718T130000
DTSTAMP:20260424T005934
CREATED:20250831T163159Z
LAST-MODIFIED:20250831T163159Z
UID:2352-1752841800-1752843600@waalsekerkarnhem.nl
SUMMARY:Coventry-gebed
DESCRIPTION:Het Coventry-gebed is een gebed om vrede en verzoening; elke vrijdag van 12.30u tot 13.00u. Het Coventry-gebed is een initiatief van de Raad van Kerken Arnhem.
URL:https://waalsekerkarnhem.nl/event/coventry-gebed-60/
LOCATION:Waalse Kerk\, Gasthuisstraat 1\, Arnhem\, 6811 DZ
CATEGORIES:Gemeenteactiviteiten
END:VEVENT
BEGIN:VEVENT
DTSTART;TZID=Europe/Amsterdam:20250711T123000
DTEND;TZID=Europe/Amsterdam:20250711T130000
DTSTAMP:20260424T005934
CREATED:20250831T163124Z
LAST-MODIFIED:20250831T163125Z
UID:2350-1752237000-1752238800@waalsekerkarnhem.nl
SUMMARY:Coventry-gebed
DESCRIPTION:Het Coventry-gebed is een gebed om vrede en verzoening; elke vrijdag van 12.30u tot 13.00u. Het Coventry-gebed is een initiatief van de Raad van Kerken Arnhem.
URL:https://waalsekerkarnhem.nl/event/coventry-gebed-59/
LOCATION:Waalse Kerk\, Gasthuisstraat 1\, Arnhem\, 6811 DZ
CATEGORIES:Gemeenteactiviteiten
END:VEVENT
BEGIN:VEVENT
DTSTART;TZID=Europe/Amsterdam:20250704T123000
DTEND;TZID=Europe/Amsterdam:20250704T130000
DTSTAMP:20260424T005934
CREATED:20250831T163052Z
LAST-MODIFIED:20250831T163053Z
UID:2348-1751632200-1751634000@waalsekerkarnhem.nl
SUMMARY:Coventry-gebed
DESCRIPTION:Het Coventry-gebed is een gebed om vrede en verzoening; elke vrijdag van 12.30u tot 13.00u. Het Coventry-gebed is een initiatief van de Raad van Kerken Arnhem.
URL:https://waalsekerkarnhem.nl/event/coventry-gebed-58/
LOCATION:Waalse Kerk\, Gasthuisstraat 1\, Arnhem\, 6811 DZ
CATEGORIES:Gemeenteactiviteiten
END:VEVENT
BEGIN:VEVENT
DTSTART;TZID=Europe/Amsterdam:20250627T123000
DTEND;TZID=Europe/Amsterdam:20250627T130000
DTSTAMP:20260424T005934
CREATED:20250831T163023Z
LAST-MODIFIED:20250831T163024Z
UID:2346-1751027400-1751029200@waalsekerkarnhem.nl
SUMMARY:Coventry-gebed
DESCRIPTION:Het Coventry-gebed is een gebed om vrede en verzoening; elke vrijdag van 12.30u tot 13.00u. Het Coventry-gebed is een initiatief van de Raad van Kerken Arnhem.
URL:https://waalsekerkarnhem.nl/event/coventry-gebed-57/
LOCATION:Waalse Kerk\, Gasthuisstraat 1\, Arnhem\, 6811 DZ
CATEGORIES:Gemeenteactiviteiten
END:VEVENT
BEGIN:VEVENT
DTSTART;TZID=Europe/Amsterdam:20250622T170000
DTEND;TZID=Europe/Amsterdam:20250622T180000
DTSTAMP:20260424T005934
CREATED:20241030T150706Z
LAST-MODIFIED:20250225T112735Z
UID:1686-1750611600-1750615200@waalsekerkarnhem.nl
SUMMARY:Kerkdienst - 22/06/2025
DESCRIPTION:Voorganger: Joost RöselaersOrgel: Wim Roelfsema \n\n\n\nNa de kerkdienst ontmoeten wij elkaar tijdens de vin d’amitié onder het genot van een drankje. 
URL:https://waalsekerkarnhem.nl/event/kerkdienst-22-06-2025/
LOCATION:Waalse Kerk\, Gasthuisstraat 1\, Arnhem\, 6811 DZ
CATEGORIES:Kerkdiensten
ATTACH;FMTTYPE=image/jpeg:https://waalsekerkarnhem.nl/wp-content/uploads/2024/10/event-Joost.jpg
END:VEVENT
BEGIN:VEVENT
DTSTART;TZID=Europe/Amsterdam:20250620T123000
DTEND;TZID=Europe/Amsterdam:20250620T130000
DTSTAMP:20260424T005934
CREATED:20250831T162950Z
LAST-MODIFIED:20250831T162951Z
UID:2343-1750422600-1750424400@waalsekerkarnhem.nl
SUMMARY:Coventry-gebed
DESCRIPTION:Het Coventry-gebed is een gebed om vrede en verzoening; elke vrijdag van 12.30u tot 13.00u. Het Coventry-gebed is een initiatief van de Raad van Kerken Arnhem.
URL:https://waalsekerkarnhem.nl/event/coventry-gebed-56/
LOCATION:Waalse Kerk\, Gasthuisstraat 1\, Arnhem\, 6811 DZ
CATEGORIES:Gemeenteactiviteiten
END:VEVENT
BEGIN:VEVENT
DTSTART;TZID=Europe/Amsterdam:20250613T123000
DTEND;TZID=Europe/Amsterdam:20250613T130000
DTSTAMP:20260424T005934
CREATED:20250831T162853Z
LAST-MODIFIED:20250831T162854Z
UID:2341-1749817800-1749819600@waalsekerkarnhem.nl
SUMMARY:Coventry-gebed
DESCRIPTION:Het Coventry-gebed is een gebed om vrede en verzoening; elke vrijdag van 12.30u tot 13.00u. Het Coventry-gebed is een initiatief van de Raad van Kerken Arnhem.
URL:https://waalsekerkarnhem.nl/event/coventry-gebed-55/
LOCATION:Waalse Kerk\, Gasthuisstraat 1\, Arnhem\, 6811 DZ
CATEGORIES:Gemeenteactiviteiten
END:VEVENT
BEGIN:VEVENT
DTSTART;TZID=Europe/Amsterdam:20250606T123000
DTEND;TZID=Europe/Amsterdam:20250606T130000
DTSTAMP:20260424T005934
CREATED:20250831T162824Z
LAST-MODIFIED:20250831T162825Z
UID:2339-1749213000-1749214800@waalsekerkarnhem.nl
SUMMARY:Coventry-gebed
DESCRIPTION:Het Coventry-gebed is een gebed om vrede en verzoening; elke vrijdag van 12.30u tot 13.00u. Het Coventry-gebed is een initiatief van de Raad van Kerken Arnhem.
URL:https://waalsekerkarnhem.nl/event/coventry-gebed-54/
LOCATION:Waalse Kerk\, Gasthuisstraat 1\, Arnhem\, 6811 DZ
CATEGORIES:Gemeenteactiviteiten
END:VEVENT
BEGIN:VEVENT
DTSTART;TZID=Europe/Amsterdam:20250530T123000
DTEND;TZID=Europe/Amsterdam:20250530T130000
DTSTAMP:20260424T005934
CREATED:20250831T162753Z
LAST-MODIFIED:20250831T162754Z
UID:2337-1748608200-1748610000@waalsekerkarnhem.nl
SUMMARY:Coventry-gebed
DESCRIPTION:Het Coventry-gebed is een gebed om vrede en verzoening; elke vrijdag van 12.30u tot 13.00u. Het Coventry-gebed is een initiatief van de Raad van Kerken Arnhem.
URL:https://waalsekerkarnhem.nl/event/coventry-gebed-53/
LOCATION:Waalse Kerk\, Gasthuisstraat 1\, Arnhem\, 6811 DZ
CATEGORIES:Gemeenteactiviteiten
END:VEVENT
BEGIN:VEVENT
DTSTART;TZID=Europe/Amsterdam:20250525T170000
DTEND;TZID=Europe/Amsterdam:20250525T180000
DTSTAMP:20260424T005934
CREATED:20241030T150909Z
LAST-MODIFIED:20250510T051905Z
UID:1692-1748192400-1748196000@waalsekerkarnhem.nl
SUMMARY:Kerkdienst - 25/05/2025
DESCRIPTION:Voorganger: Henk SpoelstraDe muzikale medewerking is van het koor Decades dat een aantal Taizé-liederen zingt\, en onze vaste organist Wim Roelfsema.  \n\n\n\nNa de kerkdienst ontmoeten wij elkaar tijdens de vin d’amitié onder het genot van een drankje. 
URL:https://waalsekerkarnhem.nl/event/kerkdienst-25-05-2025/
LOCATION:Waalse Kerk\, Gasthuisstraat 1\, Arnhem\, 6811 DZ
CATEGORIES:Kerkdiensten
ATTACH;FMTTYPE=image/jpeg:https://waalsekerkarnhem.nl/wp-content/uploads/2024/10/event-neutraal.jpg
END:VEVENT
BEGIN:VEVENT
DTSTART;TZID=Europe/Amsterdam:20250523T123000
DTEND;TZID=Europe/Amsterdam:20250523T130000
DTSTAMP:20260424T005934
CREATED:20250831T162727Z
LAST-MODIFIED:20250831T162728Z
UID:2335-1748003400-1748005200@waalsekerkarnhem.nl
SUMMARY:Coventry-gebed
DESCRIPTION:Het Coventry-gebed is een gebed om vrede en verzoening; elke vrijdag van 12.30u tot 13.00u. Het Coventry-gebed is een initiatief van de Raad van Kerken Arnhem.
URL:https://waalsekerkarnhem.nl/event/coventry-gebed-52/
LOCATION:Waalse Kerk\, Gasthuisstraat 1\, Arnhem\, 6811 DZ
CATEGORIES:Gemeenteactiviteiten
END:VEVENT
BEGIN:VEVENT
DTSTART;TZID=Europe/Amsterdam:20250516T123000
DTEND;TZID=Europe/Amsterdam:20250516T130000
DTSTAMP:20260424T005934
CREATED:20250831T162700Z
LAST-MODIFIED:20250831T162700Z
UID:2333-1747398600-1747400400@waalsekerkarnhem.nl
SUMMARY:Coventry-gebed
DESCRIPTION:Het Coventry-gebed is een gebed om vrede en verzoening; elke vrijdag van 12.30u tot 13.00u. Het Coventry-gebed is een initiatief van de Raad van Kerken Arnhem.
URL:https://waalsekerkarnhem.nl/event/coventry-gebed-51/
LOCATION:Waalse Kerk\, Gasthuisstraat 1\, Arnhem\, 6811 DZ
CATEGORIES:Gemeenteactiviteiten
END:VEVENT
BEGIN:VEVENT
DTSTART;TZID=Europe/Amsterdam:20250509T123000
DTEND;TZID=Europe/Amsterdam:20250509T130000
DTSTAMP:20260424T005934
CREATED:20250831T162634Z
LAST-MODIFIED:20250831T162634Z
UID:2331-1746793800-1746795600@waalsekerkarnhem.nl
SUMMARY:Coventry-gebed
DESCRIPTION:Het Coventry-gebed is een gebed om vrede en verzoening; elke vrijdag van 12.30u tot 13.00u. Het Coventry-gebed is een initiatief van de Raad van Kerken Arnhem.
URL:https://waalsekerkarnhem.nl/event/coventry-gebed-50/
LOCATION:Waalse Kerk\, Gasthuisstraat 1\, Arnhem\, 6811 DZ
CATEGORIES:Gemeenteactiviteiten
END:VEVENT
BEGIN:VEVENT
DTSTART;TZID=Europe/Amsterdam:20250502T123000
DTEND;TZID=Europe/Amsterdam:20250502T130000
DTSTAMP:20260424T005934
CREATED:20250831T162556Z
LAST-MODIFIED:20250831T162558Z
UID:2329-1746189000-1746190800@waalsekerkarnhem.nl
SUMMARY:Coventry-gebed
DESCRIPTION:Het Coventry-gebed is een gebed om vrede en verzoening; elke vrijdag van 12.30u tot 13.00u. Het Coventry-gebed is een initiatief van de Raad van Kerken Arnhem.
URL:https://waalsekerkarnhem.nl/event/coventry-gebed-49/
LOCATION:Waalse Kerk\, Gasthuisstraat 1\, Arnhem\, 6811 DZ
CATEGORIES:Gemeenteactiviteiten
END:VEVENT
BEGIN:VEVENT
DTSTART;TZID=Europe/Amsterdam:20250427T170000
DTEND;TZID=Europe/Amsterdam:20250427T180000
DTSTAMP:20260424T005934
CREATED:20241030T150838Z
LAST-MODIFIED:20260118T101114Z
UID:1690-1745773200-1745776800@waalsekerkarnhem.nl
SUMMARY:Kerkdienst - 27/04/2025
DESCRIPTION:Franse kerkelijke liederen met PasenOp 27/04/2025 hebben we Franse componisten met muziek voor Pasen en Hemelvaart. \nProgrammaRegina caeli – Louis-Nicolas ClérambaultMotet pour le jour de Pâques – François CouperinMotet pour l’Ascension – Joseph Bodin de Boismortier \nDe muziek wordt gespeeld door il Presente: Ivette van Laar\, sopraan en Pauline Schenck\, klavecimbel. Il Presente is een barokensemble dat garant staat voor een levendig spel\, authentieke uitvoeringspraktijk en een aansprekende programmatoelichting tijdens hun concerten. \nVoorganger: Pierre EijgenraamLector: n.t.b.Orgel: Wim Roelfsema  \nToegang voor deze diensten is (vanzelfsprekend) gratis\, een bijdrage aan de collecte is welkom.Na de dienst ontmoeten wij elkaar tijdens de vin d’amitié onder het genot van een drankje.
URL:https://waalsekerkarnhem.nl/event/kerkdienst-27-04-2025/
LOCATION:Waalse Kerk\, Gasthuisstraat 1\, Arnhem\, 6811 DZ
CATEGORIES:Culte musicale,Kerkdiensten
ATTACH;FMTTYPE=image/jpeg:https://waalsekerkarnhem.nl/wp-content/uploads/2024/10/event-vanLaar.jpg
END:VEVENT
BEGIN:VEVENT
DTSTART;TZID=Europe/Amsterdam:20250425T123000
DTEND;TZID=Europe/Amsterdam:20250425T130000
DTSTAMP:20260424T005934
CREATED:20250831T162525Z
LAST-MODIFIED:20250831T162526Z
UID:2327-1745584200-1745586000@waalsekerkarnhem.nl
SUMMARY:Coventry-gebed
DESCRIPTION:Het Coventry-gebed is een gebed om vrede en verzoening; elke vrijdag van 12.30u tot 13.00u. Het Coventry-gebed is een initiatief van de Raad van Kerken Arnhem.
URL:https://waalsekerkarnhem.nl/event/coventry-gebed-48/
LOCATION:Waalse Kerk\, Gasthuisstraat 1\, Arnhem\, 6811 DZ
CATEGORIES:Gemeenteactiviteiten
END:VEVENT
BEGIN:VEVENT
DTSTART;TZID=Europe/Amsterdam:20250418T123000
DTEND;TZID=Europe/Amsterdam:20250418T130000
DTSTAMP:20260424T005934
CREATED:20250831T162458Z
LAST-MODIFIED:20250831T162459Z
UID:2325-1744979400-1744981200@waalsekerkarnhem.nl
SUMMARY:Coventry-gebed
DESCRIPTION:Het Coventry-gebed is een gebed om vrede en verzoening; elke vrijdag van 12.30u tot 13.00u. Het Coventry-gebed is een initiatief van de Raad van Kerken Arnhem.
URL:https://waalsekerkarnhem.nl/event/coventry-gebed-47/
LOCATION:Waalse Kerk\, Gasthuisstraat 1\, Arnhem\, 6811 DZ
CATEGORIES:Gemeenteactiviteiten
END:VEVENT
BEGIN:VEVENT
DTSTART;TZID=Europe/Amsterdam:20250411T123000
DTEND;TZID=Europe/Amsterdam:20250411T130000
DTSTAMP:20260424T005934
CREATED:20250831T162434Z
LAST-MODIFIED:20250831T162435Z
UID:2323-1744374600-1744376400@waalsekerkarnhem.nl
SUMMARY:Coventry-gebed
DESCRIPTION:Het Coventry-gebed is een gebed om vrede en verzoening; elke vrijdag van 12.30u tot 13.00u. Het Coventry-gebed is een initiatief van de Raad van Kerken Arnhem.
URL:https://waalsekerkarnhem.nl/event/coventry-gebed-46/
LOCATION:Waalse Kerk\, Gasthuisstraat 1\, Arnhem\, 6811 DZ
CATEGORIES:Gemeenteactiviteiten
END:VEVENT
BEGIN:VEVENT
DTSTART;TZID=Europe/Amsterdam:20250404T123000
DTEND;TZID=Europe/Amsterdam:20250404T130000
DTSTAMP:20260424T005934
CREATED:20250831T162407Z
LAST-MODIFIED:20250831T162408Z
UID:2321-1743769800-1743771600@waalsekerkarnhem.nl
SUMMARY:Coventry-gebed
DESCRIPTION:Het Coventry-gebed is een gebed om vrede en verzoening; elke vrijdag van 12.30u tot 13.00u. Het Coventry-gebed is een initiatief van de Raad van Kerken Arnhem.
URL:https://waalsekerkarnhem.nl/event/coventry-gebed-45/
LOCATION:Waalse Kerk\, Gasthuisstraat 1\, Arnhem\, 6811 DZ
CATEGORIES:Gemeenteactiviteiten
END:VEVENT
BEGIN:VEVENT
DTSTART;TZID=Europe/Amsterdam:20250328T123000
DTEND;TZID=Europe/Amsterdam:20250328T130000
DTSTAMP:20260424T005934
CREATED:20250831T162340Z
LAST-MODIFIED:20250831T162340Z
UID:2319-1743165000-1743166800@waalsekerkarnhem.nl
SUMMARY:Coventry-gebed
DESCRIPTION:Het Coventry-gebed is een gebed om vrede en verzoening; elke vrijdag van 12.30u tot 13.00u. Het Coventry-gebed is een initiatief van de Raad van Kerken Arnhem.
URL:https://waalsekerkarnhem.nl/event/coventry-gebed-44/
LOCATION:Waalse Kerk\, Gasthuisstraat 1\, Arnhem\, 6811 DZ
CATEGORIES:Gemeenteactiviteiten
END:VEVENT
BEGIN:VEVENT
DTSTART;TZID=Europe/Amsterdam:20250323T170000
DTEND;TZID=Europe/Amsterdam:20250323T180000
DTSTAMP:20260424T005934
CREATED:20241030T150624Z
LAST-MODIFIED:20260118T101205Z
UID:1684-1742749200-1742752800@waalsekerkarnhem.nl
SUMMARY:Kerkdienst - 23/03/2025
DESCRIPTION:Franse muziek in de 40-dagentijdIn de dienst van 23/03/2025 zal Capella Eusebiana\, o.l.v. Alexander Saladin\, muziek van Gabriel Fauré laten horen\, passend bij de veertigdagentijd. \nProgrammaObservant la loi suprêmeEn prièreCantique de Jean Racine \nCapella Eusebiana is een klein klassiek vrouwenkoor\, opgericht in 2013 als vrouwenkoor van de Martinuskerk-Eusebiusparochie door organist Marcus Bergink. Sinds 2016 staat het koor onder leiding van Alexander Saladin. De basis is liturgisch en spiritueel repertoire van de middeleeuwen tot aan de 21e eeuw\, met name Gregoriaans\, Hildegard von Bingen en meerstemmig repertoire van Christelijke kerken. Sinds 2021 verzorgt Capella eigen programma’s ook met wereldlijk repertoire\, gecombineerd met teksten en schilderijen\, vaak in de Waalse kerk. Dorien Verheijden begeleidt het koor in deze dienst op de piano. \nVoorganger: Joost RöselaersLector: Charles FlipseOrgel: Wim Roelfsema \nNa de kerkdienst ontmoeten wij elkaar tijdens de vin d’amitié onder het genot van een drankje.
URL:https://waalsekerkarnhem.nl/event/kerkdienst-23-03-2025/
LOCATION:Waalse Kerk\, Gasthuisstraat 1\, Arnhem\, 6811 DZ
CATEGORIES:Culte musicale,Kerkdiensten
ATTACH;FMTTYPE=image/png:https://waalsekerkarnhem.nl/wp-content/uploads/2025/03/event-CapellaEusebiana.png
END:VEVENT
BEGIN:VEVENT
DTSTART;TZID=Europe/Amsterdam:20250321T123000
DTEND;TZID=Europe/Amsterdam:20250321T130000
DTSTAMP:20260424T005934
CREATED:20250831T162307Z
LAST-MODIFIED:20250831T162308Z
UID:2317-1742560200-1742562000@waalsekerkarnhem.nl
SUMMARY:Coventry-gebed
DESCRIPTION:Het Coventry-gebed is een gebed om vrede en verzoening; elke vrijdag van 12.30u tot 13.00u. Het Coventry-gebed is een initiatief van de Raad van Kerken Arnhem.
URL:https://waalsekerkarnhem.nl/event/coventry-gebed-43/
LOCATION:Waalse Kerk\, Gasthuisstraat 1\, Arnhem\, 6811 DZ
CATEGORIES:Gemeenteactiviteiten
END:VEVENT
END:VCALENDAR