BEGIN:VCALENDAR
VERSION:2.0
PRODID:-//Waalse Kerk Arnhem - ECPv6.15.20//NONSGML v1.0//EN
CALSCALE:GREGORIAN
METHOD:PUBLISH
X-ORIGINAL-URL:https://waalsekerkarnhem.nl
X-WR-CALDESC:Evenementen voor Waalse Kerk Arnhem
REFRESH-INTERVAL;VALUE=DURATION:PT1H
X-Robots-Tag:noindex
X-PUBLISHED-TTL:PT1H
BEGIN:VTIMEZONE
TZID:Europe/Amsterdam
BEGIN:DAYLIGHT
TZOFFSETFROM:+0100
TZOFFSETTO:+0200
TZNAME:CEST
DTSTART:20230326T010000
END:DAYLIGHT
BEGIN:STANDARD
TZOFFSETFROM:+0200
TZOFFSETTO:+0100
TZNAME:CET
DTSTART:20231029T010000
END:STANDARD
BEGIN:DAYLIGHT
TZOFFSETFROM:+0100
TZOFFSETTO:+0200
TZNAME:CEST
DTSTART:20240331T010000
END:DAYLIGHT
BEGIN:STANDARD
TZOFFSETFROM:+0200
TZOFFSETTO:+0100
TZNAME:CET
DTSTART:20241027T010000
END:STANDARD
BEGIN:DAYLIGHT
TZOFFSETFROM:+0100
TZOFFSETTO:+0200
TZNAME:CEST
DTSTART:20250330T010000
END:DAYLIGHT
BEGIN:STANDARD
TZOFFSETFROM:+0200
TZOFFSETTO:+0100
TZNAME:CET
DTSTART:20251026T010000
END:STANDARD
END:VTIMEZONE
BEGIN:VEVENT
DTSTART;TZID=Europe/Amsterdam:20240602T100000
DTEND;TZID=Europe/Amsterdam:20240602T110000
DTSTAMP:20260424T214905
CREATED:20240601T084634Z
LAST-MODIFIED:20240601T084635Z
UID:1509-1717322400-1717326000@waalsekerkarnhem.nl
SUMMARY:Kerkdienst Doopsgezinden
DESCRIPTION:Dit is een kerkdienst van de Doopsgezinde gemeente Arnhem.
URL:https://waalsekerkarnhem.nl/event/kerkdienst-doopsgezinden/
LOCATION:Waalse Kerk\, Gasthuisstraat 1\, Arnhem\, 6811 DZ
CATEGORIES:Activiteiten zustergemeenten
END:VEVENT
BEGIN:VEVENT
DTSTART;TZID=Europe/Amsterdam:20240602T170000
DTEND;TZID=Europe/Amsterdam:20240602T180000
DTSTAMP:20260424T214905
CREATED:20240601T073832Z
LAST-MODIFIED:20240601T074717Z
UID:1472-1717347600-1717351200@waalsekerkarnhem.nl
SUMMARY:Vesperviering
DESCRIPTION:De vespers zijn een onderdeel van het getijdengebed\, een meditatieve gebedsvorm die men in de kloosters beoefent. Door samen de psalmen te zingen\, te luisteren naar orgelmuziek en in stilte te mediteren is er ruimte voor bezinning en ontstaat een sfeer van verbondenheid en harmonie. \n\n\n\nDe vespervieringen zijn een initiatief van de Jansbeek ekklesia.
URL:https://waalsekerkarnhem.nl/event/vesperviering/
LOCATION:Waalse Kerk\, Gasthuisstraat 1\, Arnhem\, 6811 DZ
CATEGORIES:Activiteiten zustergemeenten
END:VEVENT
BEGIN:VEVENT
DTSTART;TZID=Europe/Amsterdam:20240607T123000
DTEND;TZID=Europe/Amsterdam:20240607T130000
DTSTAMP:20260424T214905
CREATED:20240601T070619Z
LAST-MODIFIED:20240601T075205Z
UID:1405-1717763400-1717765200@waalsekerkarnhem.nl
SUMMARY:Coventry-gebed
DESCRIPTION:Het Coventry-gebed is een gebed om vrede en verzoening; elke vrijdag van 12.30u tot 13.00u. Het Coventry-gebed is een initiatief van de Raad van Kerken Arnhem.
URL:https://waalsekerkarnhem.nl/event/coventry-gebed/
LOCATION:Waalse Kerk\, Gasthuisstraat 1\, Arnhem\, 6811 DZ
CATEGORIES:Gemeenteactiviteiten
END:VEVENT
BEGIN:VEVENT
DTSTART;TZID=Europe/Amsterdam:20240609T100000
DTEND;TZID=Europe/Amsterdam:20240609T110000
DTSTAMP:20260424T214905
CREATED:20240601T081508Z
LAST-MODIFIED:20240601T082347Z
UID:1493-1717927200-1717930800@waalsekerkarnhem.nl
SUMMARY:Viering OLVékoor
DESCRIPTION:Een viering met een maatschappelijk thema; naast zang (m.n. van Huub Oosterhuis) en (bijbel)teksten\, passend bij het thema\, komt regelmatig een gastspreker aan het woord. Deze viering is een initiatief van de Jansbeek ekklesia.
URL:https://waalsekerkarnhem.nl/event/1493/
LOCATION:Waalse Kerk\, Gasthuisstraat 1\, Arnhem\, 6811 DZ
CATEGORIES:Activiteiten zustergemeenten
END:VEVENT
BEGIN:VEVENT
DTSTART;TZID=Europe/Amsterdam:20240609T120000
DTEND;TZID=Europe/Amsterdam:20240609T140000
DTSTAMP:20260424T214905
CREATED:20240601T085346Z
LAST-MODIFIED:20240614T054851Z
UID:1515-1717934400-1717941600@waalsekerkarnhem.nl
SUMMARY:Dienst ​Evangelische Broedergemeente
DESCRIPTION:Dit is een kerkdienst van de ​Evangelische Broedergemeente.
URL:https://waalsekerkarnhem.nl/event/kerkdienst-evangelische-broedergemeente-2/
LOCATION:Waalse Kerk\, Gasthuisstraat 1\, Arnhem\, 6811 DZ
CATEGORIES:Activiteiten zustergemeenten
END:VEVENT
BEGIN:VEVENT
DTSTART;TZID=Europe/Amsterdam:20240614T123000
DTEND;TZID=Europe/Amsterdam:20240614T130000
DTSTAMP:20260424T214905
CREATED:20240601T071712Z
LAST-MODIFIED:20240601T075158Z
UID:1410-1718368200-1718370000@waalsekerkarnhem.nl
SUMMARY:Coventry-gebed
DESCRIPTION:Het Coventry-gebed is een gebed om vrede en verzoening; elke vrijdag van 12.30u tot 13.00u. Het Coventry-gebed is een initiatief van de Raad van Kerken Arnhem.
URL:https://waalsekerkarnhem.nl/event/coventry-gebed-2/
LOCATION:Waalse Kerk\, Gasthuisstraat 1\, Arnhem\, 6811 DZ
CATEGORIES:Gemeenteactiviteiten
END:VEVENT
BEGIN:VEVENT
DTSTART;TZID=Europe/Amsterdam:20240616T120000
DTEND;TZID=Europe/Amsterdam:20240616T140000
DTSTAMP:20260424T214905
CREATED:20240601T085504Z
LAST-MODIFIED:20240614T054921Z
UID:1520-1718539200-1718546400@waalsekerkarnhem.nl
SUMMARY:Dienst ​Evangelische Broedergemeente
DESCRIPTION:Dit is een kerkdienst van de ​Evangelische Broedergemeente.
URL:https://waalsekerkarnhem.nl/event/kerkdienst-evangelische-broedergemeente-3/
LOCATION:Waalse Kerk\, Gasthuisstraat 1\, Arnhem\, 6811 DZ
CATEGORIES:Activiteiten zustergemeenten
END:VEVENT
BEGIN:VEVENT
DTSTART;TZID=Europe/Amsterdam:20240621T123000
DTEND;TZID=Europe/Amsterdam:20240621T130000
DTSTAMP:20260424T214905
CREATED:20240601T071829Z
LAST-MODIFIED:20240601T075149Z
UID:1413-1718973000-1718974800@waalsekerkarnhem.nl
SUMMARY:Coventry-gebed
DESCRIPTION:Het Coventry-gebed is een gebed om vrede en verzoening; elke vrijdag van 12.30u tot 13.00u. Het Coventry-gebed is een initiatief van de Raad van Kerken Arnhem.
URL:https://waalsekerkarnhem.nl/event/coventry-gebed-3/
LOCATION:Waalse Kerk\, Gasthuisstraat 1\, Arnhem\, 6811 DZ
CATEGORIES:Gemeenteactiviteiten
END:VEVENT
BEGIN:VEVENT
DTSTART;TZID=Europe/Amsterdam:20240623T100000
DTEND;TZID=Europe/Amsterdam:20240623T110000
DTSTAMP:20260424T214905
CREATED:20240601T094209Z
LAST-MODIFIED:20240614T033434Z
UID:1527-1719136800-1719140400@waalsekerkarnhem.nl
SUMMARY:Keti koti viering
DESCRIPTION:Op 1 juli 1863 eindigde wettelijk gezien deslavernij in het Nederlands koninkrijk. HetComité 30 juni – 1 juli Arnhem en degezamenlijke kerkgemeenschappen vanArnhem organiseren deze herdenkingsdienstom zo bij te dragen aan een heilzameverwerking van ons Nederlandseslavernijverleden.In de kerkdienst gaan vertegenwoordigersvan verschillende kerken voor. Muziek doorzanggroep EBG en de cantorij van deSalvatorkerk. Na de dienst is er gelegenheidom onder het genot van een Surinaamshapje en een drankje op een informele wijzesamen te zijn. Je viert met elkaar\, je eet met elkaar\, je deelt met elkaar.
URL:https://waalsekerkarnhem.nl/event/keti-koti-viering-2/
CATEGORIES:Gemeenteactiviteiten
END:VEVENT
BEGIN:VEVENT
DTSTART;TZID=Europe/Amsterdam:20240623T120000
DTEND;TZID=Europe/Amsterdam:20240623T140000
DTSTAMP:20260424T214905
CREATED:20240601T085533Z
LAST-MODIFIED:20240614T054937Z
UID:1514-1719144000-1719151200@waalsekerkarnhem.nl
SUMMARY:Dienst ​Evangelische Broedergemeente
DESCRIPTION:Dit is een kerkdienst van de ​Evangelische Broedergemeente.
URL:https://waalsekerkarnhem.nl/event/kerkdienst-evangelische-broedergemeente-4/
LOCATION:Waalse Kerk\, Gasthuisstraat 1\, Arnhem\, 6811 DZ
CATEGORIES:Activiteiten zustergemeenten
END:VEVENT
BEGIN:VEVENT
DTSTART;TZID=Europe/Amsterdam:20240623T170000
DTEND;TZID=Europe/Amsterdam:20240623T180000
DTSTAMP:20260424T214905
CREATED:20231223T113510Z
LAST-MODIFIED:20240617T170258Z
UID:1345-1719162000-1719165600@waalsekerkarnhem.nl
SUMMARY:Kerkdienst - 23/06/2024
DESCRIPTION:Voorganger: Joost RöselaersMuziek: Koor Decades \n\n\n\n\n \nNog in Pinkstersferen staan wij zondag stil bij de geest. Wat is dat eigenlijk\, de geest? Bestaat het wel? En zo ja hoe kan de geest invloed hebben op ons leven van alledag? We lezen uit het scheppingsverhaal van Genesis\, wanneer de eerste mens (Adam) pas tot leven komt als de geest in zijn neus wordt geblazen. En uit Galaten 5 waarin Paulus de geest beschrijft.\n\n\n\nNa de kerkdienst ontmoeten wij elkaar tijdens de vin d’ amitié onder het genot van een drankje. 
URL:https://waalsekerkarnhem.nl/event/kerkdienst-23-06-2024/
LOCATION:Waalse Kerk\, Gasthuisstraat 1\, Arnhem\, 6811 DZ
CATEGORIES:Kerkdiensten
END:VEVENT
BEGIN:VEVENT
DTSTART;TZID=Europe/Amsterdam:20240626T093000
DTEND;TZID=Europe/Amsterdam:20240626T130000
DTSTAMP:20260424T214905
CREATED:20240601T090704Z
LAST-MODIFIED:20240601T090742Z
UID:1524-1719394200-1719406800@waalsekerkarnhem.nl
SUMMARY:Pelgrimsviering
DESCRIPTION:Eens in de maand op een woensdag organiseert de Doopsgezinde gemeente een pelgrimsviering.  \n\n\n\nProgramma:Vanaf 9.00 uur: Welkom\, binnenkomen in stilte9.30 uur: Meditatieve viering van een half uur10.00 uur: Koffie en thee 10.30 uur: Wandeling naar en in Park Sonsbeek in stilte en al pratend weer terug naar de Waalse kerk12.00 uur: Potluck lunch en nagesprek13.00 uur: Afronding \n\n\n\n \n\n\n\nBijzonderheden:  We eindigen met een potluck lunch\, dus we vragen aan iedereen wat te eten mee te brengen. We vragen een vrijwillige bijdrage voor de gemaakte kosten\, richtbedrag 5 euro.Aanmelden graag\, (maar hoeft niet per se) bij Aly Meijer per mail of telefoon 06-26493146.
URL:https://waalsekerkarnhem.nl/event/pelgrimsviering/
LOCATION:Waalse Kerk\, Gasthuisstraat 1\, Arnhem\, 6811 DZ
CATEGORIES:Activiteiten zustergemeenten
END:VEVENT
BEGIN:VEVENT
DTSTART;TZID=Europe/Amsterdam:20240628T123000
DTEND;TZID=Europe/Amsterdam:20240628T130000
DTSTAMP:20260424T214905
CREATED:20240601T071857Z
LAST-MODIFIED:20240601T075141Z
UID:1415-1719577800-1719579600@waalsekerkarnhem.nl
SUMMARY:Coventry-gebed
DESCRIPTION:Het Coventry-gebed is een gebed om vrede en verzoening; elke vrijdag van 12.30u tot 13.00u. Het Coventry-gebed is een initiatief van de Raad van Kerken Arnhem.
URL:https://waalsekerkarnhem.nl/event/coventry-gebed-4/
LOCATION:Waalse Kerk\, Gasthuisstraat 1\, Arnhem\, 6811 DZ
CATEGORIES:Gemeenteactiviteiten
END:VEVENT
BEGIN:VEVENT
DTSTART;TZID=Europe/Amsterdam:20240628T193000
DTEND;TZID=Europe/Amsterdam:20240628T213000
DTSTAMP:20260424T214905
CREATED:20240614T033813Z
LAST-MODIFIED:20240614T034433Z
UID:1536-1719603000-1719610200@waalsekerkarnhem.nl
SUMMARY:Zomerkring
DESCRIPTION:Gesprekken in de Voorhof van de Parkstraatgemeente\, Kastanjelaan 22e\, Arnhem en in de tuinen van het Spijkerkwartier. Opgeven: zie website. Drie vrijdagavonden samen met mensen van 4 andere kleine geloofsgemeenschappen in Arnhem in gesprek rond biodiversiteit en het Joodse Loofhuttenfeest.Aly Meijer\, predikant van de Doopsgezinde Gemeente zal het thema inleiden en de gesprekken begeleiden. 
URL:https://waalsekerkarnhem.nl/event/zomerkring/
CATEGORIES:Activiteiten zustergemeenten
END:VEVENT
BEGIN:VEVENT
DTSTART;TZID=Europe/Amsterdam:20240630T120000
DTEND;TZID=Europe/Amsterdam:20240630T140000
DTSTAMP:20260424T214905
CREATED:20240601T085638Z
LAST-MODIFIED:20240614T054835Z
UID:1522-1719748800-1719756000@waalsekerkarnhem.nl
SUMMARY:Dienst ​Evangelische Broedergemeente
DESCRIPTION:Dit is een kerkdienst van de ​Evangelische Broedergemeente.
URL:https://waalsekerkarnhem.nl/event/kerkdienst-evangelische-broedergemeente-5/
LOCATION:Waalse Kerk\, Gasthuisstraat 1\, Arnhem\, 6811 DZ
CATEGORIES:Activiteiten zustergemeenten
END:VEVENT
BEGIN:VEVENT
DTSTART;TZID=Europe/Amsterdam:20240705T123000
DTEND;TZID=Europe/Amsterdam:20240705T130000
DTSTAMP:20260424T214905
CREATED:20240601T071931Z
LAST-MODIFIED:20240601T075134Z
UID:1418-1720182600-1720184400@waalsekerkarnhem.nl
SUMMARY:Coventry-gebed
DESCRIPTION:Het Coventry-gebed is een gebed om vrede en verzoening; elke vrijdag van 12.30u tot 13.00u. Het Coventry-gebed is een initiatief van de Raad van Kerken Arnhem.
URL:https://waalsekerkarnhem.nl/event/coventry-gebed-5/
LOCATION:Waalse Kerk\, Gasthuisstraat 1\, Arnhem\, 6811 DZ
CATEGORIES:Gemeenteactiviteiten
END:VEVENT
BEGIN:VEVENT
DTSTART;TZID=Europe/Amsterdam:20240707T170000
DTEND;TZID=Europe/Amsterdam:20240707T180000
DTSTAMP:20260424T214905
CREATED:20240601T075300Z
LAST-MODIFIED:20240601T075301Z
UID:1477-1720371600-1720375200@waalsekerkarnhem.nl
SUMMARY:Vesperviering
DESCRIPTION:De vespers zijn een onderdeel van het getijdengebed\, een meditatieve gebedsvorm die men in de kloosters beoefent. Door samen de psalmen te zingen\, te luisteren naar orgelmuziek en in stilte te mediteren is er ruimte voor bezinning en ontstaat een sfeer van verbondenheid en harmonie. \n\n\n\nDe vespervieringen zijn een initiatief van de Jansbeek ekklesia.
URL:https://waalsekerkarnhem.nl/event/vesperviering-2/
LOCATION:Waalse Kerk\, Gasthuisstraat 1\, Arnhem\, 6811 DZ
CATEGORIES:Activiteiten zustergemeenten
END:VEVENT
BEGIN:VEVENT
DTSTART;TZID=Europe/Amsterdam:20240712T123000
DTEND;TZID=Europe/Amsterdam:20240712T130000
DTSTAMP:20260424T214905
CREATED:20240601T071956Z
LAST-MODIFIED:20240601T075126Z
UID:1420-1720787400-1720789200@waalsekerkarnhem.nl
SUMMARY:Coventry-gebed
DESCRIPTION:Het Coventry-gebed is een gebed om vrede en verzoening; elke vrijdag van 12.30u tot 13.00u. Het Coventry-gebed is een initiatief van de Raad van Kerken Arnhem.
URL:https://waalsekerkarnhem.nl/event/coventry-gebed-6/
LOCATION:Waalse Kerk\, Gasthuisstraat 1\, Arnhem\, 6811 DZ
CATEGORIES:Gemeenteactiviteiten
END:VEVENT
BEGIN:VEVENT
DTSTART;TZID=Europe/Amsterdam:20240717T093000
DTEND;TZID=Europe/Amsterdam:20240717T130000
DTSTAMP:20260424T214905
CREATED:20240710T164956Z
LAST-MODIFIED:20240710T164957Z
UID:1562-1721208600-1721221200@waalsekerkarnhem.nl
SUMMARY:Pelgrimsviering
DESCRIPTION:Eens in de maand op een woensdag organiseert de Doopsgezinde gemeente een pelgrimsviering.  \n\n\n\nProgramma:Vanaf 9.00 uur: Welkom\, binnenkomen in stilte9.30 uur: Meditatieve viering van een half uur10.00 uur: Koffie en thee 10.30 uur: Wandeling naar en in Park Sonsbeek in stilte en al pratend weer terug naar de Waalse kerk12.00 uur: Potluck lunch en nagesprek13.00 uur: Afronding \n\n\n\n \n\n\n\nBijzonderheden:  We eindigen met een potluck lunch\, dus we vragen aan iedereen wat te eten mee te brengen. We vragen een vrijwillige bijdrage voor de gemaakte kosten\, richtbedrag 5 euro.Aanmelden graag\, (maar hoeft niet per se) bij Aly Meijer per mail of telefoon 06-26493146.
URL:https://waalsekerkarnhem.nl/event/pelgrimsviering-2/
LOCATION:Waalse Kerk\, Gasthuisstraat 1\, Arnhem\, 6811 DZ
CATEGORIES:Activiteiten zustergemeenten
END:VEVENT
BEGIN:VEVENT
DTSTART;TZID=Europe/Amsterdam:20240719T123000
DTEND;TZID=Europe/Amsterdam:20240719T130000
DTSTAMP:20260424T214905
CREATED:20240601T072023Z
LAST-MODIFIED:20240601T075117Z
UID:1422-1721392200-1721394000@waalsekerkarnhem.nl
SUMMARY:Coventry-gebed
DESCRIPTION:Het Coventry-gebed is een gebed om vrede en verzoening; elke vrijdag van 12.30u tot 13.00u. Het Coventry-gebed is een initiatief van de Raad van Kerken Arnhem.
URL:https://waalsekerkarnhem.nl/event/coventry-gebed-7/
LOCATION:Waalse Kerk\, Gasthuisstraat 1\, Arnhem\, 6811 DZ
CATEGORIES:Gemeenteactiviteiten
END:VEVENT
BEGIN:VEVENT
DTSTART;TZID=Europe/Amsterdam:20240721T100000
DTEND;TZID=Europe/Amsterdam:20240721T110000
DTSTAMP:20260424T214905
CREATED:20240614T035331Z
LAST-MODIFIED:20240614T035403Z
UID:1544-1721556000-1721559600@waalsekerkarnhem.nl
SUMMARY:Gezamenlijke zomerdienst
DESCRIPTION:Doopsgezinde gemeente in Waalse kerk. Voorganger Aly Meijer.
URL:https://waalsekerkarnhem.nl/event/gezamenlijke-zomerdienst/
LOCATION:Waalse Kerk\, Gasthuisstraat 1\, Arnhem\, 6811 DZ
CATEGORIES:Activiteiten zustergemeenten,Gemeenteactiviteiten
END:VEVENT
BEGIN:VEVENT
DTSTART;TZID=Europe/Amsterdam:20240726T123000
DTEND;TZID=Europe/Amsterdam:20240726T130000
DTSTAMP:20260424T214905
CREATED:20240601T072047Z
LAST-MODIFIED:20240601T075108Z
UID:1424-1721997000-1721998800@waalsekerkarnhem.nl
SUMMARY:Coventry-gebed
DESCRIPTION:Het Coventry-gebed is een gebed om vrede en verzoening; elke vrijdag van 12.30u tot 13.00u. Het Coventry-gebed is een initiatief van de Raad van Kerken Arnhem.
URL:https://waalsekerkarnhem.nl/event/coventry-gebed-8/
LOCATION:Waalse Kerk\, Gasthuisstraat 1\, Arnhem\, 6811 DZ
CATEGORIES:Gemeenteactiviteiten
END:VEVENT
BEGIN:VEVENT
DTSTART;TZID=Europe/Amsterdam:20240728T170000
DTEND;TZID=Europe/Amsterdam:20240728T180000
DTSTAMP:20260424T214905
CREATED:20231223T113626Z
LAST-MODIFIED:20231223T113627Z
UID:1348-1722186000-1722189600@waalsekerkarnhem.nl
SUMMARY:Kerkdienst - 28/07/2024
DESCRIPTION:Voorganger: Theo Pieter de Jong. \n\n\n\nNa de kerkdienst ontmoeten wij elkaar tijdens de vin d’ amitié onder het genot van een drankje. 
URL:https://waalsekerkarnhem.nl/event/kerkdienst-28-07-2024/
LOCATION:Waalse Kerk\, Gasthuisstraat 1\, Arnhem\, 6811 DZ
CATEGORIES:Kerkdiensten
END:VEVENT
BEGIN:VEVENT
DTSTART;TZID=Europe/Amsterdam:20240802T123000
DTEND;TZID=Europe/Amsterdam:20240802T130000
DTSTAMP:20260424T214905
CREATED:20240601T072116Z
LAST-MODIFIED:20240601T075100Z
UID:1426-1722601800-1722603600@waalsekerkarnhem.nl
SUMMARY:Coventry-gebed
DESCRIPTION:Het Coventry-gebed is een gebed om vrede en verzoening; elke vrijdag van 12.30u tot 13.00u. Het Coventry-gebed is een initiatief van de Raad van Kerken Arnhem.
URL:https://waalsekerkarnhem.nl/event/coventry-gebed-9/
LOCATION:Waalse Kerk\, Gasthuisstraat 1\, Arnhem\, 6811 DZ
CATEGORIES:Gemeenteactiviteiten
END:VEVENT
BEGIN:VEVENT
DTSTART;TZID=Europe/Amsterdam:20240804T100000
DTEND;TZID=Europe/Amsterdam:20240804T110000
DTSTAMP:20260424T214905
CREATED:20240614T035634Z
LAST-MODIFIED:20240614T035709Z
UID:1547-1722765600-1722769200@waalsekerkarnhem.nl
SUMMARY:Gezamenlijke zomerdienst
DESCRIPTION:Parkstraatgemeente in de Parkstraatkerk: Voorganger: Els de Clercq Organist Wim Roelfsema.
URL:https://waalsekerkarnhem.nl/event/gezamenlijke-zomerdienst-2/
LOCATION:Parkstraatgemeente\, Kastanjelaan 22e\, Arnhem\, 6828 GL
CATEGORIES:Activiteiten zustergemeenten,Gemeenteactiviteiten
END:VEVENT
BEGIN:VEVENT
DTSTART;TZID=Europe/Amsterdam:20240809T123000
DTEND;TZID=Europe/Amsterdam:20240809T130000
DTSTAMP:20260424T214905
CREATED:20240601T072142Z
LAST-MODIFIED:20240601T075049Z
UID:1428-1723206600-1723208400@waalsekerkarnhem.nl
SUMMARY:Coventry-gebed
DESCRIPTION:Het Coventry-gebed is een gebed om vrede en verzoening; elke vrijdag van 12.30u tot 13.00u. Het Coventry-gebed is een initiatief van de Raad van Kerken Arnhem.
URL:https://waalsekerkarnhem.nl/event/coventry-gebed-10/
LOCATION:Waalse Kerk\, Gasthuisstraat 1\, Arnhem\, 6811 DZ
CATEGORIES:Gemeenteactiviteiten
END:VEVENT
BEGIN:VEVENT
DTSTART;TZID=Europe/Amsterdam:20240811T100000
DTEND;TZID=Europe/Amsterdam:20240811T110000
DTSTAMP:20260424T214905
CREATED:20240614T035843Z
LAST-MODIFIED:20240614T035844Z
UID:1546-1723370400-1723374000@waalsekerkarnhem.nl
SUMMARY:Gezamenlijke zomerdienst
DESCRIPTION:Jansbeek ekklesia met een Laudenviering in de Waalse Kerk. M.m.v. Laudenkoor en Alexander Saladin\, orgel.
URL:https://waalsekerkarnhem.nl/event/gezamenlijke-zomerdienst-3/
LOCATION:Waalse Kerk\, Gasthuisstraat 1\, Arnhem\, 6811 DZ
CATEGORIES:Activiteiten zustergemeenten,Gemeenteactiviteiten
END:VEVENT
BEGIN:VEVENT
DTSTART;TZID=Europe/Amsterdam:20240816T123000
DTEND;TZID=Europe/Amsterdam:20240816T130000
DTSTAMP:20260424T214905
CREATED:20240601T072207Z
LAST-MODIFIED:20240601T075039Z
UID:1430-1723811400-1723813200@waalsekerkarnhem.nl
SUMMARY:Coventry-gebed
DESCRIPTION:Het Coventry-gebed is een gebed om vrede en verzoening; elke vrijdag van 12.30u tot 13.00u. Het Coventry-gebed is een initiatief van de Raad van Kerken Arnhem.
URL:https://waalsekerkarnhem.nl/event/coventry-gebed-11/
LOCATION:Waalse Kerk\, Gasthuisstraat 1\, Arnhem\, 6811 DZ
CATEGORIES:Gemeenteactiviteiten
END:VEVENT
BEGIN:VEVENT
DTSTART;TZID=Europe/Amsterdam:20240818T100000
DTEND;TZID=Europe/Amsterdam:20240818T110000
DTSTAMP:20260424T214905
CREATED:20240614T040055Z
LAST-MODIFIED:20240614T040056Z
UID:1551-1723975200-1723978800@waalsekerkarnhem.nl
SUMMARY:Gezamenlijke zomerdienst
DESCRIPTION:Waalse gemeente in de Eusebiuskerk: voorganger ds. Joanne Vrijhof. Organist: Wim Roelfsema (Nederlandstalig).
URL:https://waalsekerkarnhem.nl/event/gezamenlijke-zomerdienst-4/
CATEGORIES:Activiteiten zustergemeenten,Gemeenteactiviteiten
END:VEVENT
BEGIN:VEVENT
DTSTART;TZID=Europe/Amsterdam:20240818T101500
DTEND;TZID=Europe/Amsterdam:20240818T111500
DTSTAMP:20260424T214905
CREATED:20231223T113719Z
LAST-MODIFIED:20240811T124027Z
UID:1350-1723976100-1723979700@waalsekerkarnhem.nl
SUMMARY:Zomerdienst - 18/08/2024
DESCRIPTION:De voorganger is ds Joanne Vrijhof. Joanne is nog niet zo lang geleden als theologe afgestudeerd. Afgelopen jaar is zij al een keer eerder bij ons in een franstalige kerkdienst voorgegaan.  \n\n\n\nWim Roelfsema speelt op het orgel en zijn orgelspel wordt ondersteund door de trombonist Dick Bolt. \n\n\n\nDeze dienst is een gezamenlijke dienst van de Protestantse gemeenten in Arnhem. 
URL:https://waalsekerkarnhem.nl/event/kerkdienst-18-08-2024/
CATEGORIES:Kerkdiensten
END:VEVENT
END:VCALENDAR