BEGIN:VCALENDAR
VERSION:2.0
PRODID:-//Waalse Kerk Arnhem - ECPv6.15.20//NONSGML v1.0//EN
CALSCALE:GREGORIAN
METHOD:PUBLISH
X-ORIGINAL-URL:https://waalsekerkarnhem.nl
X-WR-CALDESC:Evenementen voor Waalse Kerk Arnhem
REFRESH-INTERVAL;VALUE=DURATION:PT1H
X-Robots-Tag:noindex
X-PUBLISHED-TTL:PT1H
BEGIN:VTIMEZONE
TZID:Europe/Amsterdam
BEGIN:DAYLIGHT
TZOFFSETFROM:+0100
TZOFFSETTO:+0200
TZNAME:CEST
DTSTART:20250330T010000
END:DAYLIGHT
BEGIN:STANDARD
TZOFFSETFROM:+0200
TZOFFSETTO:+0100
TZNAME:CET
DTSTART:20251026T010000
END:STANDARD
BEGIN:DAYLIGHT
TZOFFSETFROM:+0100
TZOFFSETTO:+0200
TZNAME:CEST
DTSTART:20260329T010000
END:DAYLIGHT
BEGIN:STANDARD
TZOFFSETFROM:+0200
TZOFFSETTO:+0100
TZNAME:CET
DTSTART:20261025T010000
END:STANDARD
BEGIN:DAYLIGHT
TZOFFSETFROM:+0100
TZOFFSETTO:+0200
TZNAME:CEST
DTSTART:20270328T010000
END:DAYLIGHT
BEGIN:STANDARD
TZOFFSETFROM:+0200
TZOFFSETTO:+0100
TZNAME:CET
DTSTART:20271031T010000
END:STANDARD
END:VTIMEZONE
BEGIN:VEVENT
DTSTART;TZID=Europe/Amsterdam:20260308T150000
DTEND;TZID=Europe/Amsterdam:20260308T170000
DTSTAMP:20260423T135425
CREATED:20260302T175749Z
LAST-MODIFIED:20260302T182059Z
UID:2544-1772982000-1772989200@waalsekerkarnhem.nl
SUMMARY:Hold & Embrace - VrouwVocaal
DESCRIPTION:Op 8 maart 2026 geven we naar aanleiding van Internationale Vrouwendag een middagconcert in de Waalse Kerk te Arnhem! Het thema van die dag is #NietMijnRecht. \n\n\n\nWe voeren werken uit van o.a.  David Lang\, Karl Jenkins\, Billy Joël\, Kevin Memley en Bob Chilcott op teksten van o.a. Hildegard van Bingen en Sara Teasdale. Er wordt medewerking door een instrumentaal ensemble verleend\, bestaande uit altviool\, cello\, piano en slagwerk. \n\n\n\nAlle teksten van de koorwerken hebben direct of indirect te maken met de vele facetten van het vrouw-zijn\, ook in symbolische zin.
URL:https://waalsekerkarnhem.nl/event/hold-embrace-vrouwvocaal/
CATEGORIES:Culturele activiteiten
END:VEVENT
BEGIN:VEVENT
DTSTART;TZID=Europe/Amsterdam:20260322T170000
DTEND;TZID=Europe/Amsterdam:20260322T180000
DTSTAMP:20260423T135425
CREATED:20251207T141024Z
LAST-MODIFIED:20260318T075222Z
UID:2487-1774198800-1774202400@waalsekerkarnhem.nl
SUMMARY:Kerkdienst - 22/03/2026
DESCRIPTION:Voorganger: Nienke Meuleman \nMuzikale medewerking: Detmar Leertouwer\, cello. Orgel: Wim Roelfsema \n\n\n\nNa de kerkdienst ontmoeten wij elkaar tijdens de vin d’amitié onder het genot van een drankje. 
URL:https://waalsekerkarnhem.nl/event/kerkdienst-22-03-2026/
LOCATION:Waalse Kerk\, Gasthuisstraat 1\, Arnhem\, 6811 DZ
CATEGORIES:Kerkdiensten
END:VEVENT
BEGIN:VEVENT
DTSTART;TZID=Europe/Amsterdam:20260328T193000
DTEND;TZID=Europe/Amsterdam:20260328T210000
DTSTAMP:20260423T135425
CREATED:20260314T214451Z
LAST-MODIFIED:20260314T215827Z
UID:2551-1774726200-1774731600@waalsekerkarnhem.nl
SUMMARY:Concert “In de Wolken”
DESCRIPTION:Op zaterdagavond 28 maart 2026 organiseert Vrouwenkoor Klankkleur samen met het strijkkwartet Déjà Vu een tweede uitvoering van het concert “In de wolken”. We zingen onder meer de “Snow Angel”van Sarah Quartel\, vijf liederen en drie verhalen. Ook zingen wij “Drie Muzikale Meditaties”\, in 2018 door Arno Vree gecomponeerd voor Vrouwenkoor Klankkleur. Speciaal voor dit concert is de pianopartij gearrangeerd voor het strijkkwartet Déjà Vu. Vrouwenkoor Klankkleur zingt “Snow Angel” met strijkers.
URL:https://waalsekerkarnhem.nl/event/concert-in-de-wolken/
LOCATION:Waalse Kerk\, Gasthuisstraat 1\, Arnhem\, 6811 DZ
CATEGORIES:Culturele activiteiten
ATTACH;FMTTYPE=image/webp:https://waalsekerkarnhem.nl/wp-content/uploads/2026/03/IMG_1537.webp
END:VEVENT
BEGIN:VEVENT
DTSTART;TZID=Europe/Amsterdam:20260329T153000
DTEND;TZID=Europe/Amsterdam:20260329T170000
DTSTAMP:20260423T135425
CREATED:20260314T214853Z
LAST-MODIFIED:20260314T215622Z
UID:2558-1774798200-1774803600@waalsekerkarnhem.nl
SUMMARY:Concert “In de Wolken”
DESCRIPTION:Op zondagmiddag 29 maart 2026 organiseert Vrouwenkoor Klankkleur samen met het strijkkwartet Déjà Vu een tweede uitvoering van het concert “In de wolken”. We zingen onder meer de “Snow Angel”van Sarah Quartel\, vijf liederen en drie verhalen. Ook zingen wij “Drie Muzikale Meditaties”\, in 2018 door Arno Vree gecomponeerd voor Vrouwenkoor Klankkleur. Speciaal voor dit concert is de pianopartij gearrangeerd voor het strijkkwartet Déjà Vu. Vrouwenkoor Klankkleur zingt “Snow Angel” met strijkers.
URL:https://waalsekerkarnhem.nl/event/concert-in-de-wolken-2/
LOCATION:Waalse Kerk\, Gasthuisstraat 1\, Arnhem\, 6811 DZ
CATEGORIES:Culturele activiteiten
ATTACH;FMTTYPE=image/webp:https://waalsekerkarnhem.nl/wp-content/uploads/2026/03/IMG_1537.webp
END:VEVENT
BEGIN:VEVENT
DTSTART;TZID=Europe/Amsterdam:20260426T170000
DTEND;TZID=Europe/Amsterdam:20260426T180000
DTSTAMP:20260423T135425
CREATED:20251207T141141Z
LAST-MODIFIED:20251207T144124Z
UID:2490-1777222800-1777226400@waalsekerkarnhem.nl
SUMMARY:Kerkdienst - 26/04/2026
DESCRIPTION:Voorganger: John VrijhofOrgel: Wim Roelfsema \n\n\n\nNa de kerkdienst ontmoeten wij elkaar tijdens de vin d’amitié onder het genot van een drankje. 
URL:https://waalsekerkarnhem.nl/event/kerkdienst-26-04-2026/
LOCATION:Waalse Kerk\, Gasthuisstraat 1\, Arnhem\, 6811 DZ
CATEGORIES:Kerkdiensten
END:VEVENT
BEGIN:VEVENT
DTSTART;TZID=Europe/Amsterdam:20260524T170000
DTEND;TZID=Europe/Amsterdam:20260524T180000
DTSTAMP:20260423T135425
CREATED:20251207T141419Z
LAST-MODIFIED:20251207T144107Z
UID:2495-1779642000-1779645600@waalsekerkarnhem.nl
SUMMARY:Kerkdienst - 24/05/2026
DESCRIPTION:Voorganger: Joanne VrijhofOrgel: Wim Roelfsema \n\n\n\nNa de kerkdienst ontmoeten wij elkaar tijdens de vin d’amitié onder het genot van een drankje. 
URL:https://waalsekerkarnhem.nl/event/kerkdienst-24-05-2026/
LOCATION:Waalse Kerk\, Gasthuisstraat 1\, Arnhem\, 6811 DZ
CATEGORIES:Kerkdiensten
ATTACH;FMTTYPE=image/jpeg:https://waalsekerkarnhem.nl/wp-content/uploads/2024/10/Event-Joanne.jpg
END:VEVENT
BEGIN:VEVENT
DTSTART;TZID=Europe/Amsterdam:20260628T170000
DTEND;TZID=Europe/Amsterdam:20260628T180000
DTSTAMP:20260423T135425
CREATED:20251207T141456Z
LAST-MODIFIED:20251207T141526Z
UID:2497-1782666000-1782669600@waalsekerkarnhem.nl
SUMMARY:Kerkdienst - 28/06/2026
DESCRIPTION:Voorganger: Joost RöselaersOrgel: Wim Roelfsema \n\n\n\nNa de kerkdienst ontmoeten wij elkaar tijdens de vin d’amitié onder het genot van een drankje. 
URL:https://waalsekerkarnhem.nl/event/kerkdienst-28-06-2026/
LOCATION:Waalse Kerk\, Gasthuisstraat 1\, Arnhem\, 6811 DZ
CATEGORIES:Kerkdiensten
ATTACH;FMTTYPE=image/jpeg:https://waalsekerkarnhem.nl/wp-content/uploads/2024/10/event-Joost.jpg
END:VEVENT
BEGIN:VEVENT
DTSTART;TZID=Europe/Amsterdam:20260726T170000
DTEND;TZID=Europe/Amsterdam:20260726T180000
DTSTAMP:20260423T135425
CREATED:20251207T141557Z
LAST-MODIFIED:20251207T144028Z
UID:2501-1785085200-1785088800@waalsekerkarnhem.nl
SUMMARY:Kerkdienst - 26/07/2026
DESCRIPTION:Voorganger: Hubert MooimanOrgel: Wim Roelfsema \n\n\n\nNa de kerkdienst ontmoeten wij elkaar tijdens de vin d’amitié onder het genot van een drankje. 
URL:https://waalsekerkarnhem.nl/event/kerkdienst-27-07-2026/
LOCATION:Waalse Kerk\, Gasthuisstraat 1\, Arnhem\, 6811 DZ
CATEGORIES:Kerkdiensten
END:VEVENT
BEGIN:VEVENT
DTSTART;TZID=Europe/Amsterdam:20260927T170000
DTEND;TZID=Europe/Amsterdam:20260927T180000
DTSTAMP:20260423T135425
CREATED:20251207T141712Z
LAST-MODIFIED:20251207T144005Z
UID:2504-1790528400-1790532000@waalsekerkarnhem.nl
SUMMARY:Kerkdienst - 27/09/2026
DESCRIPTION:Voorganger: Joanne VrijhofOrgel: Wim Roelfsema \n\n\n\nNa de kerkdienst ontmoeten wij elkaar tijdens de vin d’amitié onder het genot van een drankje. 
URL:https://waalsekerkarnhem.nl/event/kerkdienst-27-09-2026/
LOCATION:Waalse Kerk\, Gasthuisstraat 1\, Arnhem\, 6811 DZ
CATEGORIES:Kerkdiensten
ATTACH;FMTTYPE=image/jpeg:https://waalsekerkarnhem.nl/wp-content/uploads/2024/10/Event-Joanne.jpg
END:VEVENT
BEGIN:VEVENT
DTSTART;TZID=Europe/Amsterdam:20261025T170000
DTEND;TZID=Europe/Amsterdam:20261025T180000
DTSTAMP:20260423T135425
CREATED:20251207T142045Z
LAST-MODIFIED:20251207T143942Z
UID:2510-1792947600-1792951200@waalsekerkarnhem.nl
SUMMARY:Kerkdienst - 25/10/2026
DESCRIPTION:Voorganger: Joanne VrijhofOrgel: Wim Roelfsema \n\n\n\nNa de kerkdienst ontmoeten wij elkaar tijdens de vin d’amitié onder het genot van een drankje. 
URL:https://waalsekerkarnhem.nl/event/kerkdienst-25-10-2026/
LOCATION:Waalse Kerk\, Gasthuisstraat 1\, Arnhem\, 6811 DZ
CATEGORIES:Kerkdiensten
ATTACH;FMTTYPE=image/jpeg:https://waalsekerkarnhem.nl/wp-content/uploads/2024/10/Event-Joanne.jpg
END:VEVENT
BEGIN:VEVENT
DTSTART;TZID=Europe/Amsterdam:20261122T170000
DTEND;TZID=Europe/Amsterdam:20261122T180000
DTSTAMP:20260423T135425
CREATED:20251207T142140Z
LAST-MODIFIED:20251207T143920Z
UID:2512-1795366800-1795370400@waalsekerkarnhem.nl
SUMMARY:Kerkdienst - 22/11/2026
DESCRIPTION:Voorganger: Ruth van der WaallOrgel: Wim Roelfsema \n\n\n\nNa de kerkdienst ontmoeten wij elkaar tijdens de vin d’amitié onder het genot van een drankje. 
URL:https://waalsekerkarnhem.nl/event/kerkdienst-22-11-2026/
LOCATION:Waalse Kerk\, Gasthuisstraat 1\, Arnhem\, 6811 DZ
CATEGORIES:Kerkdiensten
END:VEVENT
BEGIN:VEVENT
DTSTART;TZID=Europe/Amsterdam:20261224T170000
DTEND;TZID=Europe/Amsterdam:20261224T180000
DTSTAMP:20260423T135425
CREATED:20251207T142248Z
LAST-MODIFIED:20251207T143901Z
UID:2515-1798131600-1798135200@waalsekerkarnhem.nl
SUMMARY:Kerkdienst - 24/12/2026
DESCRIPTION:Voorganger: Joanne VrijhofOrgel: Wim Roelfsema \n\n\n\nNa de kerkdienst ontmoeten wij elkaar tijdens de vin d’amitié onder het genot van een drankje. 
URL:https://waalsekerkarnhem.nl/event/kerkdienst-24-12-2026/
LOCATION:Waalse Kerk\, Gasthuisstraat 1\, Arnhem\, 6811 DZ
CATEGORIES:Kerkdiensten
ATTACH;FMTTYPE=image/jpeg:https://waalsekerkarnhem.nl/wp-content/uploads/2024/10/Event-Joanne.jpg
END:VEVENT
END:VCALENDAR