BEGIN:VCALENDAR
VERSION:2.0
PRODID:-//Waalse Kerk Arnhem - ECPv6.15.20//NONSGML v1.0//EN
CALSCALE:GREGORIAN
METHOD:PUBLISH
X-ORIGINAL-URL:https://waalsekerkarnhem.nl
X-WR-CALDESC:Evenementen voor Waalse Kerk Arnhem
REFRESH-INTERVAL;VALUE=DURATION:PT1H
X-Robots-Tag:noindex
X-PUBLISHED-TTL:PT1H
BEGIN:VTIMEZONE
TZID:Europe/Amsterdam
BEGIN:DAYLIGHT
TZOFFSETFROM:+0100
TZOFFSETTO:+0200
TZNAME:CEST
DTSTART:20230326T010000
END:DAYLIGHT
BEGIN:STANDARD
TZOFFSETFROM:+0200
TZOFFSETTO:+0100
TZNAME:CET
DTSTART:20231029T010000
END:STANDARD
BEGIN:DAYLIGHT
TZOFFSETFROM:+0100
TZOFFSETTO:+0200
TZNAME:CEST
DTSTART:20240331T010000
END:DAYLIGHT
BEGIN:STANDARD
TZOFFSETFROM:+0200
TZOFFSETTO:+0100
TZNAME:CET
DTSTART:20241027T010000
END:STANDARD
BEGIN:DAYLIGHT
TZOFFSETFROM:+0100
TZOFFSETTO:+0200
TZNAME:CEST
DTSTART:20250330T010000
END:DAYLIGHT
BEGIN:STANDARD
TZOFFSETFROM:+0200
TZOFFSETTO:+0100
TZNAME:CET
DTSTART:20251026T010000
END:STANDARD
END:VTIMEZONE
BEGIN:VEVENT
DTSTART;TZID=Europe/Amsterdam:20241004T123000
DTEND;TZID=Europe/Amsterdam:20241004T130000
DTSTAMP:20260424T143702
CREATED:20240601T072528Z
LAST-MODIFIED:20240601T074941Z
UID:1444-1728045000-1728046800@waalsekerkarnhem.nl
SUMMARY:Coventry-gebed
DESCRIPTION:Het Coventry-gebed is een gebed om vrede en verzoening; elke vrijdag van 12.30u tot 13.00u. Het Coventry-gebed is een initiatief van de Raad van Kerken Arnhem.
URL:https://waalsekerkarnhem.nl/event/coventry-gebed-18/
LOCATION:Waalse Kerk\, Gasthuisstraat 1\, Arnhem\, 6811 DZ
CATEGORIES:Gemeenteactiviteiten
END:VEVENT
BEGIN:VEVENT
DTSTART;TZID=Europe/Amsterdam:20241006T170000
DTEND;TZID=Europe/Amsterdam:20241006T180000
DTSTAMP:20260424T143702
CREATED:20240601T075527Z
LAST-MODIFIED:20240601T075528Z
UID:1483-1728234000-1728237600@waalsekerkarnhem.nl
SUMMARY:Vesperviering
DESCRIPTION:De vespers zijn een onderdeel van het getijdengebed\, een meditatieve gebedsvorm die men in de kloosters beoefent. Door samen de psalmen te zingen\, te luisteren naar orgelmuziek en in stilte te mediteren is er ruimte voor bezinning en ontstaat een sfeer van verbondenheid en harmonie. \n\n\n\nDe vespervieringen zijn een initiatief van de Jansbeek ekklesia.
URL:https://waalsekerkarnhem.nl/event/vesperviering-5/
LOCATION:Waalse Kerk\, Gasthuisstraat 1\, Arnhem\, 6811 DZ
CATEGORIES:Activiteiten zustergemeenten
END:VEVENT
BEGIN:VEVENT
DTSTART;TZID=Europe/Amsterdam:20241011T123000
DTEND;TZID=Europe/Amsterdam:20241011T130000
DTSTAMP:20260424T143702
CREATED:20240601T072551Z
LAST-MODIFIED:20240601T074933Z
UID:1446-1728649800-1728651600@waalsekerkarnhem.nl
SUMMARY:Coventry-gebed
DESCRIPTION:Het Coventry-gebed is een gebed om vrede en verzoening; elke vrijdag van 12.30u tot 13.00u. Het Coventry-gebed is een initiatief van de Raad van Kerken Arnhem.
URL:https://waalsekerkarnhem.nl/event/coventry-gebed-19/
LOCATION:Waalse Kerk\, Gasthuisstraat 1\, Arnhem\, 6811 DZ
CATEGORIES:Gemeenteactiviteiten
END:VEVENT
BEGIN:VEVENT
DTSTART;TZID=Europe/Amsterdam:20241013T100000
DTEND;TZID=Europe/Amsterdam:20241013T110000
DTSTAMP:20260424T143702
CREATED:20240601T083117Z
LAST-MODIFIED:20240601T083118Z
UID:1502-1728813600-1728817200@waalsekerkarnhem.nl
SUMMARY:Viering OLVékoor
DESCRIPTION:Een viering met een maatschappelijk thema; naast zang (m.n. van Huub Oosterhuis) en (bijbel)teksten\, passend bij het thema\, komt regelmatig een gastspreker aan het woord. Deze viering is een initiatief van de Jansbeek ekklesia.
URL:https://waalsekerkarnhem.nl/event/viering-olvekoor-2/
LOCATION:Waalse Kerk\, Gasthuisstraat 1\, Arnhem\, 6811 DZ
CATEGORIES:Activiteiten zustergemeenten
END:VEVENT
BEGIN:VEVENT
DTSTART;TZID=Europe/Amsterdam:20241016T200000
DTEND;TZID=Europe/Amsterdam:20241016T213000
DTSTAMP:20260424T143702
CREATED:20240918T065400Z
LAST-MODIFIED:20241027T204059Z
UID:1637-1729108800-1729114200@waalsekerkarnhem.nl
SUMMARY:Dr Herman Kaiser - Jansbeeklezing
DESCRIPTION:Dr Herman Kaiser\, oud burgemeester van Arnhem\, stelt in deze lezing de vraag of het katholieke sociale denken nog van belang is voor onze tijd. Of is dat denken aan een update toe? \n\n\n\nVoor het antwoord op die vraag gaat hij te rade bij twee bronnen: de kerkvader Augustinus (400 n.c) enerzijds en de ontwikkeling van de politieke economie in vooral Europa anderzijds.
URL:https://waalsekerkarnhem.nl/event/dr-herman-kaiser-jansbeeklezing/
LOCATION:Waalse Kerk\, Gasthuisstraat 1\, Arnhem\, 6811 DZ
CATEGORIES:Activiteiten zustergemeenten,Culturele activiteiten
END:VEVENT
BEGIN:VEVENT
DTSTART;TZID=Europe/Amsterdam:20241018T123000
DTEND;TZID=Europe/Amsterdam:20241018T130000
DTSTAMP:20260424T143702
CREATED:20240601T072612Z
LAST-MODIFIED:20240601T074924Z
UID:1448-1729254600-1729256400@waalsekerkarnhem.nl
SUMMARY:Coventry-gebed
DESCRIPTION:Het Coventry-gebed is een gebed om vrede en verzoening; elke vrijdag van 12.30u tot 13.00u. Het Coventry-gebed is een initiatief van de Raad van Kerken Arnhem.
URL:https://waalsekerkarnhem.nl/event/coventry-gebed-20/
LOCATION:Waalse Kerk\, Gasthuisstraat 1\, Arnhem\, 6811 DZ
CATEGORIES:Gemeenteactiviteiten
END:VEVENT
BEGIN:VEVENT
DTSTART;TZID=Europe/Amsterdam:20241025T123000
DTEND;TZID=Europe/Amsterdam:20241025T130000
DTSTAMP:20260424T143702
CREATED:20240601T072642Z
LAST-MODIFIED:20240601T074916Z
UID:1450-1729859400-1729861200@waalsekerkarnhem.nl
SUMMARY:Coventry-gebed
DESCRIPTION:Het Coventry-gebed is een gebed om vrede en verzoening; elke vrijdag van 12.30u tot 13.00u. Het Coventry-gebed is een initiatief van de Raad van Kerken Arnhem.
URL:https://waalsekerkarnhem.nl/event/coventry-gebed-21/
LOCATION:Waalse Kerk\, Gasthuisstraat 1\, Arnhem\, 6811 DZ
CATEGORIES:Gemeenteactiviteiten
END:VEVENT
BEGIN:VEVENT
DTSTART;TZID=Europe/Amsterdam:20241027T170000
DTEND;TZID=Europe/Amsterdam:20241027T180000
DTSTAMP:20260424T143702
CREATED:20231223T113849Z
LAST-MODIFIED:20240818T181334Z
UID:1354-1730048400-1730052000@waalsekerkarnhem.nl
SUMMARY:Kerkdienst - 27/10/2024
DESCRIPTION:Voorganger: Ruth van der Waall. \n\n\n\nNa de kerkdienst ontmoeten wij elkaar tijdens de vin d’amitié onder het genot van een drankje. 
URL:https://waalsekerkarnhem.nl/event/kerkdienst-27-10-2024/
LOCATION:Waalse Kerk\, Gasthuisstraat 1\, Arnhem\, 6811 DZ
CATEGORIES:Kerkdiensten
END:VEVENT
END:VCALENDAR