BEGIN:VCALENDAR
VERSION:2.0
PRODID:-//Waalse Kerk Arnhem - ECPv6.15.20//NONSGML v1.0//EN
CALSCALE:GREGORIAN
METHOD:PUBLISH
X-ORIGINAL-URL:https://waalsekerkarnhem.nl
X-WR-CALDESC:Evenementen voor Waalse Kerk Arnhem
REFRESH-INTERVAL;VALUE=DURATION:PT1H
X-Robots-Tag:noindex
X-PUBLISHED-TTL:PT1H
BEGIN:VTIMEZONE
TZID:Europe/Amsterdam
BEGIN:DAYLIGHT
TZOFFSETFROM:+0100
TZOFFSETTO:+0200
TZNAME:CEST
DTSTART:20230326T010000
END:DAYLIGHT
BEGIN:STANDARD
TZOFFSETFROM:+0200
TZOFFSETTO:+0100
TZNAME:CET
DTSTART:20231029T010000
END:STANDARD
BEGIN:DAYLIGHT
TZOFFSETFROM:+0100
TZOFFSETTO:+0200
TZNAME:CEST
DTSTART:20240331T010000
END:DAYLIGHT
BEGIN:STANDARD
TZOFFSETFROM:+0200
TZOFFSETTO:+0100
TZNAME:CET
DTSTART:20241027T010000
END:STANDARD
BEGIN:DAYLIGHT
TZOFFSETFROM:+0100
TZOFFSETTO:+0200
TZNAME:CEST
DTSTART:20250330T010000
END:DAYLIGHT
BEGIN:STANDARD
TZOFFSETFROM:+0200
TZOFFSETTO:+0100
TZNAME:CET
DTSTART:20251026T010000
END:STANDARD
END:VTIMEZONE
BEGIN:VEVENT
DTSTART;TZID=Europe/Amsterdam:20241101T123000
DTEND;TZID=Europe/Amsterdam:20241101T130000
DTSTAMP:20260424T130840
CREATED:20240601T072945Z
LAST-MODIFIED:20240601T074908Z
UID:1452-1730464200-1730466000@waalsekerkarnhem.nl
SUMMARY:Coventry-gebed
DESCRIPTION:Het Coventry-gebed is een gebed om vrede en verzoening; elke vrijdag van 12.30u tot 13.00u. Het Coventry-gebed is een initiatief van de Raad van Kerken Arnhem.
URL:https://waalsekerkarnhem.nl/event/coventry-gebed-22/
LOCATION:Waalse Kerk\, Gasthuisstraat 1\, Arnhem\, 6811 DZ
CATEGORIES:Gemeenteactiviteiten
END:VEVENT
BEGIN:VEVENT
DTSTART;TZID=Europe/Amsterdam:20241103T170000
DTEND;TZID=Europe/Amsterdam:20241103T180000
DTSTAMP:20260424T130840
CREATED:20240601T075648Z
LAST-MODIFIED:20240601T075648Z
UID:1485-1730653200-1730656800@waalsekerkarnhem.nl
SUMMARY:Vesperviering
DESCRIPTION:De vespers zijn een onderdeel van het getijdengebed\, een meditatieve gebedsvorm die men in de kloosters beoefent. Door samen de psalmen te zingen\, te luisteren naar orgelmuziek en in stilte te mediteren is er ruimte voor bezinning en ontstaat een sfeer van verbondenheid en harmonie. \n\n\n\nDe vespervieringen zijn een initiatief van de Jansbeek ekklesia.
URL:https://waalsekerkarnhem.nl/event/vesperviering-6/
LOCATION:Waalse Kerk\, Gasthuisstraat 1\, Arnhem\, 6811 DZ
CATEGORIES:Activiteiten zustergemeenten
END:VEVENT
BEGIN:VEVENT
DTSTART;TZID=Europe/Amsterdam:20241108T123000
DTEND;TZID=Europe/Amsterdam:20241108T130000
DTSTAMP:20260424T130840
CREATED:20240601T073007Z
LAST-MODIFIED:20240601T074900Z
UID:1455-1731069000-1731070800@waalsekerkarnhem.nl
SUMMARY:Coventry-gebed
DESCRIPTION:Het Coventry-gebed is een gebed om vrede en verzoening; elke vrijdag van 12.30u tot 13.00u. Het Coventry-gebed is een initiatief van de Raad van Kerken Arnhem.
URL:https://waalsekerkarnhem.nl/event/coventry-gebed-23/
LOCATION:Waalse Kerk\, Gasthuisstraat 1\, Arnhem\, 6811 DZ
CATEGORIES:Gemeenteactiviteiten
END:VEVENT
BEGIN:VEVENT
DTSTART;TZID=Europe/Amsterdam:20241110T100000
DTEND;TZID=Europe/Amsterdam:20241110T110000
DTSTAMP:20260424T130840
CREATED:20240601T083145Z
LAST-MODIFIED:20240601T083145Z
UID:1504-1731232800-1731236400@waalsekerkarnhem.nl
SUMMARY:Viering OLVékoor
DESCRIPTION:Een viering met een maatschappelijk thema; naast zang (m.n. van Huub Oosterhuis) en (bijbel)teksten\, passend bij het thema\, komt regelmatig een gastspreker aan het woord. Deze viering is een initiatief van de Jansbeek ekklesia.
URL:https://waalsekerkarnhem.nl/event/viering-olvekoor-3/
LOCATION:Waalse Kerk\, Gasthuisstraat 1\, Arnhem\, 6811 DZ
CATEGORIES:Activiteiten zustergemeenten
END:VEVENT
BEGIN:VEVENT
DTSTART;TZID=Europe/Amsterdam:20241115T123000
DTEND;TZID=Europe/Amsterdam:20241115T130000
DTSTAMP:20260424T130840
CREATED:20240601T073026Z
LAST-MODIFIED:20240601T074851Z
UID:1454-1731673800-1731675600@waalsekerkarnhem.nl
SUMMARY:Coventry-gebed
DESCRIPTION:Het Coventry-gebed is een gebed om vrede en verzoening; elke vrijdag van 12.30u tot 13.00u. Het Coventry-gebed is een initiatief van de Raad van Kerken Arnhem.
URL:https://waalsekerkarnhem.nl/event/coventry-gebed-24/
LOCATION:Waalse Kerk\, Gasthuisstraat 1\, Arnhem\, 6811 DZ
CATEGORIES:Gemeenteactiviteiten
END:VEVENT
BEGIN:VEVENT
DTSTART;TZID=Europe/Amsterdam:20241120T200000
DTEND;TZID=Europe/Amsterdam:20241120T220000
DTSTAMP:20260424T130840
CREATED:20241027T151723Z
LAST-MODIFIED:20241031T092144Z
UID:1646-1732132800-1732140000@waalsekerkarnhem.nl
SUMMARY:Herman Blum - Jansbeeklezing
DESCRIPTION:Het leven leven? \n\n\n\nOp woensdag 20 november verzorgt Herman  Blum de Jansbeeklezing. Herman is de filosoof in  onze werkgroep Jansbeeklezingen. Uit eigen kring dus. \n\n\n\nOf de lezing in de oude vertrouwde vorm zal zijn laat Herman nog even in het midden. Hij is last-minute ingevlogen \n\n\n\nHij laat weten het boek  “Stadia op de Levensweg” van Søren Kierkegaard als uitgangspunt te nemen. Kierkegaard is de laat 19de eeuwse filosoof\, schrijver en bon-vivant uit Denemarken.  Een man die de vrijheid lief had en een hekel had aan opgelegde regels. \n\n\n\nMeer informatie op de site van de Jansbeek Ekklesia.
URL:https://waalsekerkarnhem.nl/event/jansbeeklezing-door-renee-van-riessen/
LOCATION:Waalse Kerk\, Gasthuisstraat 1\, Arnhem\, 6811 DZ
CATEGORIES:Activiteiten zustergemeenten,Culturele activiteiten
END:VEVENT
BEGIN:VEVENT
DTSTART;TZID=Europe/Amsterdam:20241122T123000
DTEND;TZID=Europe/Amsterdam:20241122T130000
DTSTAMP:20260424T130840
CREATED:20240601T073058Z
LAST-MODIFIED:20240601T074841Z
UID:1458-1732278600-1732280400@waalsekerkarnhem.nl
SUMMARY:Coventry-gebed
DESCRIPTION:Het Coventry-gebed is een gebed om vrede en verzoening; elke vrijdag van 12.30u tot 13.00u. Het Coventry-gebed is een initiatief van de Raad van Kerken Arnhem.
URL:https://waalsekerkarnhem.nl/event/coventry-gebed-25/
LOCATION:Waalse Kerk\, Gasthuisstraat 1\, Arnhem\, 6811 DZ
CATEGORIES:Gemeenteactiviteiten
END:VEVENT
BEGIN:VEVENT
DTSTART;TZID=Europe/Amsterdam:20241124T170000
DTEND;TZID=Europe/Amsterdam:20241124T180000
DTSTAMP:20260424T130840
CREATED:20231223T113951Z
LAST-MODIFIED:20241119T105820Z
UID:1356-1732467600-1732471200@waalsekerkarnhem.nl
SUMMARY:Kerkdienst - 24/11/2024
DESCRIPTION:In deze dienst gaat ds R. Dewandeler uit Brussel / Dordrecht voor. De muzikale medewerking is van het koor Decades.  \n\n\n\nZoals gebruikelijk aan het eind van het kerkelijk jaar is er tijdens deze dienst een moment waarop wij de familieleden en vrienden die dit jaar zijn overleden herdenken. \n\n\n\nNa de kerkdienst is er gelegenheid om elkaar te ontmoeten tijdens de vin d’amitié. 
URL:https://waalsekerkarnhem.nl/event/kerkdienst-24-11-2024/
LOCATION:Waalse Kerk\, Gasthuisstraat 1\, Arnhem\, 6811 DZ
CATEGORIES:Kerkdiensten
END:VEVENT
BEGIN:VEVENT
DTSTART;TZID=Europe/Amsterdam:20241127T093000
DTEND;TZID=Europe/Amsterdam:20241127T130000
DTSTAMP:20260424T130840
CREATED:20241102T104318Z
LAST-MODIFIED:20241102T104448Z
UID:1725-1732699800-1732712400@waalsekerkarnhem.nl
SUMMARY:Pelgrimsviering
DESCRIPTION:Eens in de maand op een woensdag organiseert de Doopsgezinde gemeente een pelgrimsviering.  \n\n\n\nProgramma:Vanaf 9.00 uur: Welkom\, binnenkomen in stilte9.30 uur: Meditatieve viering van een half uur10.00 uur: Koffie en thee 10.30 uur: Wandeling naar en in Park Sonsbeek in stilte en al pratend weer terug naar de Waalse kerk12.00 uur: Potluck lunch en nagesprek13.00 uur: Afronding \n\n\n\nBijzonderheden:  We eindigen met een potluck lunch\, dus we vragen aan iedereen wat te eten mee te brengen. We vragen een vrijwillige bijdrage voor de gemaakte kosten\, richtbedrag 5 euro.Aanmelden graag\, (maar hoeft niet per se) bij Aly Meijer per mail of telefoon 06-26493146.
URL:https://waalsekerkarnhem.nl/event/pelgrimsviering-5/
LOCATION:Waalse Kerk\, Gasthuisstraat 1\, Arnhem\, 6811 DZ
CATEGORIES:Activiteiten zustergemeenten
END:VEVENT
BEGIN:VEVENT
DTSTART;TZID=Europe/Amsterdam:20241129T123000
DTEND;TZID=Europe/Amsterdam:20241129T130000
DTSTAMP:20260424T130840
CREATED:20240601T073134Z
LAST-MODIFIED:20241120T095031Z
UID:1460-1732883400-1732885200@waalsekerkarnhem.nl
SUMMARY:Coventry-gebed
DESCRIPTION:Het Coventry-gebed is een gebed om vrede en verzoening; elke vrijdag van 12.30u tot 13.00u. Het Coventry-gebed is een initiatief van de Raad van Kerken Arnhem.
URL:https://waalsekerkarnhem.nl/event/coventry-gebed-26/
LOCATION:Waalse Kerk\, Gasthuisstraat 1\, Arnhem\, 6811 DZ
CATEGORIES:Gemeenteactiviteiten
END:VEVENT
BEGIN:VEVENT
DTSTART;TZID=Europe/Amsterdam:20241129T123000
DTEND;TZID=Europe/Amsterdam:20241129T130000
DTSTAMP:20260424T130840
CREATED:20240601T073200Z
LAST-MODIFIED:20240601T074822Z
UID:1462-1732883400-1732885200@waalsekerkarnhem.nl
SUMMARY:Coventry-gebed
DESCRIPTION:Het Coventry-gebed is een gebed om vrede en verzoening; elke vrijdag van 12.30u tot 13.00u. Het Coventry-gebed is een initiatief van de Raad van Kerken Arnhem.
URL:https://waalsekerkarnhem.nl/event/coventry-gebed-27/
LOCATION:Waalse Kerk\, Gasthuisstraat 1\, Arnhem\, 6811 DZ
CATEGORIES:Gemeenteactiviteiten
END:VEVENT
END:VCALENDAR