BEGIN:VCALENDAR
VERSION:2.0
PRODID:-//Waalse Kerk Arnhem - ECPv6.15.20//NONSGML v1.0//EN
CALSCALE:GREGORIAN
METHOD:PUBLISH
X-WR-CALNAME:Waalse Kerk Arnhem
X-ORIGINAL-URL:https://waalsekerkarnhem.nl
X-WR-CALDESC:Evenementen voor Waalse Kerk Arnhem
REFRESH-INTERVAL;VALUE=DURATION:PT1H
X-Robots-Tag:noindex
X-PUBLISHED-TTL:PT1H
BEGIN:VTIMEZONE
TZID:Europe/Amsterdam
BEGIN:DAYLIGHT
TZOFFSETFROM:+0100
TZOFFSETTO:+0200
TZNAME:CEST
DTSTART:20230326T010000
END:DAYLIGHT
BEGIN:STANDARD
TZOFFSETFROM:+0200
TZOFFSETTO:+0100
TZNAME:CET
DTSTART:20231029T010000
END:STANDARD
BEGIN:DAYLIGHT
TZOFFSETFROM:+0100
TZOFFSETTO:+0200
TZNAME:CEST
DTSTART:20240331T010000
END:DAYLIGHT
BEGIN:STANDARD
TZOFFSETFROM:+0200
TZOFFSETTO:+0100
TZNAME:CET
DTSTART:20241027T010000
END:STANDARD
BEGIN:DAYLIGHT
TZOFFSETFROM:+0100
TZOFFSETTO:+0200
TZNAME:CEST
DTSTART:20250330T010000
END:DAYLIGHT
BEGIN:STANDARD
TZOFFSETFROM:+0200
TZOFFSETTO:+0100
TZNAME:CET
DTSTART:20251026T010000
END:STANDARD
END:VTIMEZONE
BEGIN:VEVENT
DTSTART;TZID=Europe/Amsterdam:20241201T170000
DTEND;TZID=Europe/Amsterdam:20241201T180000
DTSTAMP:20260424T115335
CREATED:20240601T075719Z
LAST-MODIFIED:20240601T075720Z
UID:1487-1733072400-1733076000@waalsekerkarnhem.nl
SUMMARY:Vesperviering
DESCRIPTION:De vespers zijn een onderdeel van het getijdengebed\, een meditatieve gebedsvorm die men in de kloosters beoefent. Door samen de psalmen te zingen\, te luisteren naar orgelmuziek en in stilte te mediteren is er ruimte voor bezinning en ontstaat een sfeer van verbondenheid en harmonie. \n\n\n\nDe vespervieringen zijn een initiatief van de Jansbeek ekklesia.
URL:https://waalsekerkarnhem.nl/event/vesperviering-7/
LOCATION:Waalse Kerk\, Gasthuisstraat 1\, Arnhem\, 6811 DZ
CATEGORIES:Activiteiten zustergemeenten
END:VEVENT
BEGIN:VEVENT
DTSTART;TZID=Europe/Amsterdam:20241206T123000
DTEND;TZID=Europe/Amsterdam:20241206T130000
DTSTAMP:20260424T115335
CREATED:20240601T073229Z
LAST-MODIFIED:20240601T074813Z
UID:1464-1733488200-1733490000@waalsekerkarnhem.nl
SUMMARY:Coventry-gebed
DESCRIPTION:Het Coventry-gebed is een gebed om vrede en verzoening; elke vrijdag van 12.30u tot 13.00u. Het Coventry-gebed is een initiatief van de Raad van Kerken Arnhem.
URL:https://waalsekerkarnhem.nl/event/coventry-gebed-28/
LOCATION:Waalse Kerk\, Gasthuisstraat 1\, Arnhem\, 6811 DZ
CATEGORIES:Gemeenteactiviteiten
END:VEVENT
BEGIN:VEVENT
DTSTART;TZID=Europe/Amsterdam:20241208T100000
DTEND;TZID=Europe/Amsterdam:20241208T110000
DTSTAMP:20260424T115335
CREATED:20240601T083841Z
LAST-MODIFIED:20240601T083842Z
UID:1506-1733652000-1733655600@waalsekerkarnhem.nl
SUMMARY:Viering OLVékoor
DESCRIPTION:Een viering met een maatschappelijk thema; naast zang (m.n. van Huub Oosterhuis) en (bijbel)teksten\, passend bij het thema\, komt regelmatig een gastspreker aan het woord. Deze viering is een initiatief van de Jansbeek ekklesia.
URL:https://waalsekerkarnhem.nl/event/viering-olvekoor-4/
LOCATION:Waalse Kerk\, Gasthuisstraat 1\, Arnhem\, 6811 DZ
CATEGORIES:Activiteiten zustergemeenten
END:VEVENT
BEGIN:VEVENT
DTSTART;TZID=Europe/Amsterdam:20241211T110000
DTEND;TZID=Europe/Amsterdam:20241211T123000
DTSTAMP:20260424T115335
CREATED:20241119T175401Z
LAST-MODIFIED:20241125T142749Z
UID:1739-1733914800-1733920200@waalsekerkarnhem.nl
SUMMARY:Kerst-koffie concert
DESCRIPTION:Het orkest OPUS 55 uit Ede speelt populair klassiek en kerstmelodieën.  \n\n\n\nPROGRAMMA:MINUET\, BOCCHERINIJEUX D’ENFANTS\, BIZETCANTIQUE DE NOËL\, ADAMEVERY VALLEY\, HÄNDELSOLVEJGS SONG\, GRIEGSECOND WALTZ\, SHOSTAKOVICHSCHEHERAZADE\, RIMSKY KORSA \n\n\n\nDe entree en koffie is gratis.
URL:https://waalsekerkarnhem.nl/event/kerst-koffie-concert/
LOCATION:Waalse Kerk\, Gasthuisstraat 1\, Arnhem\, 6811 DZ
CATEGORIES:Culturele activiteiten
ATTACH;FMTTYPE=image/jpeg:https://waalsekerkarnhem.nl/wp-content/uploads/2024/11/IMG_0812-1.jpeg
END:VEVENT
BEGIN:VEVENT
DTSTART;TZID=Europe/Amsterdam:20241213T123000
DTEND;TZID=Europe/Amsterdam:20241213T130000
DTSTAMP:20260424T115335
CREATED:20240601T073332Z
LAST-MODIFIED:20241120T095043Z
UID:1466-1734093000-1734094800@waalsekerkarnhem.nl
SUMMARY:Coventry-gebed
DESCRIPTION:Het Coventry-gebed is een gebed om vrede en verzoening; elke vrijdag van 12.30u tot 13.00u. Het Coventry-gebed is een initiatief van de Raad van Kerken Arnhem.
URL:https://waalsekerkarnhem.nl/event/coventry-gebed-29/
LOCATION:Waalse Kerk\, Gasthuisstraat 1\, Arnhem\, 6811 DZ
CATEGORIES:Gemeenteactiviteiten
END:VEVENT
BEGIN:VEVENT
DTSTART;TZID=Europe/Amsterdam:20241218T093000
DTEND;TZID=Europe/Amsterdam:20241218T130000
DTSTAMP:20260424T115335
CREATED:20241211T090038Z
LAST-MODIFIED:20241211T092622Z
UID:1778-1734514200-1734526800@waalsekerkarnhem.nl
SUMMARY:Pelgrimsviering
DESCRIPTION:Eens in de maand op een woensdag organiseert de Doopsgezinde gemeente een pelgrimsviering.  \n\n\n\nProgramma:Vanaf 9.00 uur: Welkom\, binnenkomen in stilte9.30 uur: Meditatieve viering van een half uur10.00 uur: Koffie en thee 10.30 uur: Wandeling naar en in Park Sonsbeek in stilte en al pratend weer terug naar de Waalse kerk12.00 uur: Potluck lunch en nagesprek13.00 uur: Afronding \n\n\n\nBijzonderheden:  We eindigen met een potluck lunch\, dus we vragen aan iedereen wat te eten mee te brengen. We vragen een vrijwillige bijdrage voor de gemaakte kosten\, richtbedrag 5 euro.Aanmelden graag\, (maar hoeft niet per se) bij Aly Meijer per mail of telefoon 06-26493146. \n\n\n\nMeer informatie: https://doopsgezindenarnhem.nl/kapel-aan-de-beek-pelgrimsvieringen/
URL:https://waalsekerkarnhem.nl/event/pelgrimsviering-6/
LOCATION:Waalse Kerk\, Gasthuisstraat 1\, Arnhem\, 6811 DZ
CATEGORIES:Activiteiten zustergemeenten
END:VEVENT
BEGIN:VEVENT
DTSTART;TZID=Europe/Amsterdam:20241220T123000
DTEND;TZID=Europe/Amsterdam:20241220T130000
DTSTAMP:20260424T115335
CREATED:20240601T073352Z
LAST-MODIFIED:20241120T095102Z
UID:1468-1734697800-1734699600@waalsekerkarnhem.nl
SUMMARY:Coventry-gebed
DESCRIPTION:Het Coventry-gebed is een gebed om vrede en verzoening; elke vrijdag van 12.30u tot 13.00u. Het Coventry-gebed is een initiatief van de Raad van Kerken Arnhem.
URL:https://waalsekerkarnhem.nl/event/coventry-gebed-30/
LOCATION:Waalse Kerk\, Gasthuisstraat 1\, Arnhem\, 6811 DZ
CATEGORIES:Gemeenteactiviteiten
END:VEVENT
BEGIN:VEVENT
DTSTART;TZID=Europe/Amsterdam:20241222T170000
DTEND;TZID=Europe/Amsterdam:20241222T180000
DTSTAMP:20260424T115335
CREATED:20231223T114028Z
LAST-MODIFIED:20241215T211347Z
UID:1358-1734886800-1734890400@waalsekerkarnhem.nl
SUMMARY:Kerkdienst - 22/12/2024
DESCRIPTION:Le consistoire de l’Eglise Wallonne d’Árnhem vous invite à assister au culte qui marquera la prise de function de Joanne Vrijhof auprès de la Paroisse Wallonne d’Arnhem.  \n\n\n\nLe Pr. Joost Röselaers\, pasteur des Églises Wallonnes d’Amsterdam et Haarlem\, se chargera de la partie officielle de ce culte. \n\n\n\nMirjam Vos apportera sa contribution musicale en jouant du violon et Martin Kas sera aux orgues.  \n\n\n\nÀ l’issue du culte le consistoire vous convie à un moment fraternal en partageant ensemble le vin d’amitié.  \n\n\n\nMerci de nous faire savoir si vous pouvez assister à ce culte\, en nous adressant un courriel à l’adresse suivante: eglisewallonnearnhem@gmail.com
URL:https://waalsekerkarnhem.nl/event/kerkdienst-22-12-2024/
LOCATION:Waalse Kerk\, Gasthuisstraat 1\, Arnhem\, 6811 DZ
CATEGORIES:Kerkdiensten
END:VEVENT
BEGIN:VEVENT
DTSTART;TZID=Europe/Amsterdam:20241227T123000
DTEND;TZID=Europe/Amsterdam:20241227T130000
DTSTAMP:20260424T115335
CREATED:20250831T161617Z
LAST-MODIFIED:20250831T161618Z
UID:2295-1735302600-1735304400@waalsekerkarnhem.nl
SUMMARY:Coventry-gebed
DESCRIPTION:Het Coventry-gebed is een gebed om vrede en verzoening; elke vrijdag van 12.30u tot 13.00u. Het Coventry-gebed is een initiatief van de Raad van Kerken Arnhem.
URL:https://waalsekerkarnhem.nl/event/coventry-gebed-32/
LOCATION:Waalse Kerk\, Gasthuisstraat 1\, Arnhem\, 6811 DZ
CATEGORIES:Gemeenteactiviteiten
END:VEVENT
END:VCALENDAR