BEGIN:VCALENDAR
VERSION:2.0
PRODID:-//Waalse Kerk Arnhem - ECPv6.15.20//NONSGML v1.0//EN
CALSCALE:GREGORIAN
METHOD:PUBLISH
X-WR-CALNAME:Waalse Kerk Arnhem
X-ORIGINAL-URL:https://waalsekerkarnhem.nl
X-WR-CALDESC:Evenementen voor Waalse Kerk Arnhem
REFRESH-INTERVAL;VALUE=DURATION:PT1H
X-Robots-Tag:noindex
X-PUBLISHED-TTL:PT1H
BEGIN:VTIMEZONE
TZID:Europe/Amsterdam
BEGIN:DAYLIGHT
TZOFFSETFROM:+0100
TZOFFSETTO:+0200
TZNAME:CEST
DTSTART:20240331T010000
END:DAYLIGHT
BEGIN:STANDARD
TZOFFSETFROM:+0200
TZOFFSETTO:+0100
TZNAME:CET
DTSTART:20241027T010000
END:STANDARD
BEGIN:DAYLIGHT
TZOFFSETFROM:+0100
TZOFFSETTO:+0200
TZNAME:CEST
DTSTART:20250330T010000
END:DAYLIGHT
BEGIN:STANDARD
TZOFFSETFROM:+0200
TZOFFSETTO:+0100
TZNAME:CET
DTSTART:20251026T010000
END:STANDARD
BEGIN:DAYLIGHT
TZOFFSETFROM:+0100
TZOFFSETTO:+0200
TZNAME:CEST
DTSTART:20260329T010000
END:DAYLIGHT
BEGIN:STANDARD
TZOFFSETFROM:+0200
TZOFFSETTO:+0100
TZNAME:CET
DTSTART:20261025T010000
END:STANDARD
END:VTIMEZONE
BEGIN:VEVENT
DTSTART;TZID=Europe/Amsterdam:20250207T123000
DTEND;TZID=Europe/Amsterdam:20250207T130000
DTSTAMP:20260424T084855
CREATED:20250831T161954Z
LAST-MODIFIED:20250831T161955Z
UID:2305-1738931400-1738933200@waalsekerkarnhem.nl
SUMMARY:Coventry-gebed
DESCRIPTION:Het Coventry-gebed is een gebed om vrede en verzoening; elke vrijdag van 12.30u tot 13.00u. Het Coventry-gebed is een initiatief van de Raad van Kerken Arnhem.
URL:https://waalsekerkarnhem.nl/event/coventry-gebed-37/
LOCATION:Waalse Kerk\, Gasthuisstraat 1\, Arnhem\, 6811 DZ
CATEGORIES:Gemeenteactiviteiten
END:VEVENT
BEGIN:VEVENT
DTSTART;TZID=Europe/Amsterdam:20250214T123000
DTEND;TZID=Europe/Amsterdam:20250214T130000
DTSTAMP:20260424T084855
CREATED:20250831T162025Z
LAST-MODIFIED:20250831T162026Z
UID:2307-1739536200-1739538000@waalsekerkarnhem.nl
SUMMARY:Coventry-gebed
DESCRIPTION:Het Coventry-gebed is een gebed om vrede en verzoening; elke vrijdag van 12.30u tot 13.00u. Het Coventry-gebed is een initiatief van de Raad van Kerken Arnhem.
URL:https://waalsekerkarnhem.nl/event/coventry-gebed-38/
LOCATION:Waalse Kerk\, Gasthuisstraat 1\, Arnhem\, 6811 DZ
CATEGORIES:Gemeenteactiviteiten
END:VEVENT
BEGIN:VEVENT
DTSTART;TZID=Europe/Amsterdam:20250221T123000
DTEND;TZID=Europe/Amsterdam:20250221T130000
DTSTAMP:20260424T084855
CREATED:20250831T162054Z
LAST-MODIFIED:20250831T162055Z
UID:2309-1740141000-1740142800@waalsekerkarnhem.nl
SUMMARY:Coventry-gebed
DESCRIPTION:Het Coventry-gebed is een gebed om vrede en verzoening; elke vrijdag van 12.30u tot 13.00u. Het Coventry-gebed is een initiatief van de Raad van Kerken Arnhem.
URL:https://waalsekerkarnhem.nl/event/coventry-gebed-39/
LOCATION:Waalse Kerk\, Gasthuisstraat 1\, Arnhem\, 6811 DZ
CATEGORIES:Gemeenteactiviteiten
END:VEVENT
BEGIN:VEVENT
DTSTART;TZID=Europe/Amsterdam:20250223T170000
DTEND;TZID=Europe/Amsterdam:20250223T180000
DTSTAMP:20260424T084855
CREATED:20241030T145826Z
LAST-MODIFIED:20241030T150307Z
UID:1672-1740330000-1740333600@waalsekerkarnhem.nl
SUMMARY:Kerkdienst - 23/02/2025
DESCRIPTION:Voorganger: Joanne Vrijhof \n\n\n\nNa de kerkdienst ontmoeten wij elkaar tijdens de vin d’amitié onder het genot van een drankje. 
URL:https://waalsekerkarnhem.nl/event/kerkdienst-23-02-2025/
LOCATION:Waalse Kerk\, Gasthuisstraat 1\, Arnhem\, 6811 DZ
CATEGORIES:Kerkdiensten
END:VEVENT
BEGIN:VEVENT
DTSTART;TZID=Europe/Amsterdam:20250225T200000
DTEND;TZID=Europe/Amsterdam:20250225T220000
DTSTAMP:20260424T084855
CREATED:20250125T091947Z
LAST-MODIFIED:20250224T222225Z
UID:1835-1740513600-1740520800@waalsekerkarnhem.nl
SUMMARY:Benefietconcert Chamber Ensemble Kyiv
DESCRIPTION:De Oekraïense musici uit het Chamber Ensemble Kyiv\, Mykhailo Bilych (viool) en Andrin Vasin (piano)\, treden met de violiste Galyna Bilych in de Waalse Kerk op en voeren werken uit van onder anderen Leclair\, Lysenko en Skoryk. \n\n\n\nSinds drie jaar geven deze musici benefietconcerten in Nederland. Zij haalden geld op voor Giro555\, Hart voor Kinderen en de stichting Netherlands4Ukraine. Zij steunden daarmee van de Oekraïense oorlogsgebieden geëvacueerde weeskinderen\, humanitaire hulpzendingen (generatoren\, medische hulpmiddelen\, etc.)\, de revalidatie van Oekraïense veteranen in Nederland en vele andere hulpacties voor hun thuisland. \n\n\n\nDe toegang is vrij\, een vrijwillige donatie maakt de reis van de musici mogelijk en steunt Netherlands4Ukraine in hun humanitaire acties. \n\n\n\nKlik hier voor meer informatie: https://waalsekerkarnhem.nl/wp-content/uploads/2025/01/Benefiet-concert.pdf
URL:https://waalsekerkarnhem.nl/event/benefiet-concert-chamber-ensemble-kyiv/
LOCATION:Waalse Kerk\, Gasthuisstraat 1\, Arnhem\, 6811 DZ
CATEGORIES:Culturele activiteiten
ATTACH;FMTTYPE=image/jpeg:https://waalsekerkarnhem.nl/wp-content/uploads/2025/01/IMG_1177.jpeg
END:VEVENT
BEGIN:VEVENT
DTSTART;TZID=Europe/Amsterdam:20250228T123000
DTEND;TZID=Europe/Amsterdam:20250228T130000
DTSTAMP:20260424T084855
CREATED:20250831T162126Z
LAST-MODIFIED:20250831T162126Z
UID:2311-1740745800-1740747600@waalsekerkarnhem.nl
SUMMARY:Coventry-gebed
DESCRIPTION:Het Coventry-gebed is een gebed om vrede en verzoening; elke vrijdag van 12.30u tot 13.00u. Het Coventry-gebed is een initiatief van de Raad van Kerken Arnhem.
URL:https://waalsekerkarnhem.nl/event/coventry-gebed-40/
LOCATION:Waalse Kerk\, Gasthuisstraat 1\, Arnhem\, 6811 DZ
CATEGORIES:Gemeenteactiviteiten
END:VEVENT
END:VCALENDAR