BEGIN:VCALENDAR
VERSION:2.0
PRODID:-//Waalse Kerk Arnhem - ECPv6.15.20//NONSGML v1.0//EN
CALSCALE:GREGORIAN
METHOD:PUBLISH
X-WR-CALNAME:Waalse Kerk Arnhem
X-ORIGINAL-URL:https://waalsekerkarnhem.nl
X-WR-CALDESC:Evenementen voor Waalse Kerk Arnhem
REFRESH-INTERVAL;VALUE=DURATION:PT1H
X-Robots-Tag:noindex
X-PUBLISHED-TTL:PT1H
BEGIN:VTIMEZONE
TZID:Europe/Amsterdam
BEGIN:DAYLIGHT
TZOFFSETFROM:+0100
TZOFFSETTO:+0200
TZNAME:CEST
DTSTART:20240331T010000
END:DAYLIGHT
BEGIN:STANDARD
TZOFFSETFROM:+0200
TZOFFSETTO:+0100
TZNAME:CET
DTSTART:20241027T010000
END:STANDARD
BEGIN:DAYLIGHT
TZOFFSETFROM:+0100
TZOFFSETTO:+0200
TZNAME:CEST
DTSTART:20250330T010000
END:DAYLIGHT
BEGIN:STANDARD
TZOFFSETFROM:+0200
TZOFFSETTO:+0100
TZNAME:CET
DTSTART:20251026T010000
END:STANDARD
BEGIN:DAYLIGHT
TZOFFSETFROM:+0100
TZOFFSETTO:+0200
TZNAME:CEST
DTSTART:20260329T010000
END:DAYLIGHT
BEGIN:STANDARD
TZOFFSETFROM:+0200
TZOFFSETTO:+0100
TZNAME:CET
DTSTART:20261025T010000
END:STANDARD
END:VTIMEZONE
BEGIN:VEVENT
DTSTART;TZID=Europe/Amsterdam:20251123T170000
DTEND;TZID=Europe/Amsterdam:20251123T180000
DTSTAMP:20260423T182723
CREATED:20241030T150740Z
LAST-MODIFIED:20250225T114436Z
UID:1688-1763917200-1763920800@waalsekerkarnhem.nl
SUMMARY:Kerkdienst - 23/11/2025
DESCRIPTION:Voorganger: Joost RöselaersOrgel: Wim Roelfsema \n\n\n\nNa de kerkdienst ontmoeten wij elkaar tijdens de vin d’amitié onder het genot van een drankje. 
URL:https://waalsekerkarnhem.nl/event/kerkdienst-23-11-2025/
LOCATION:Waalse Kerk\, Gasthuisstraat 1\, Arnhem\, 6811 DZ
CATEGORIES:Kerkdiensten
ATTACH;FMTTYPE=image/jpeg:https://waalsekerkarnhem.nl/wp-content/uploads/2024/10/event-Joost.jpg
END:VEVENT
BEGIN:VEVENT
DTSTART;TZID=Europe/Amsterdam:20251129T200000
DTEND;TZID=Europe/Amsterdam:20251129T220000
DTSTAMP:20260423T182723
CREATED:20251019T092332Z
LAST-MODIFIED:20251019T182137Z
UID:2452-1764446400-1764453600@waalsekerkarnhem.nl
SUMMARY:Water Music van Händel
DESCRIPTION:Op zaterdag 29 november 2025 om 20.00 uur treedt het Orchestre Universitaire de Lille in de Waalse kerk op. \n\n\n\nZij spelen de volledige compositie Water Music van Händel.
URL:https://waalsekerkarnhem.nl/event/water-music-van-handel/
LOCATION:Waalse Kerk\, Gasthuisstraat 1\, Arnhem\, 6811 DZ
CATEGORIES:Culturele activiteiten
ATTACH;FMTTYPE=image/jpeg:https://waalsekerkarnhem.nl/wp-content/uploads/2025/10/event-OULILLE.jpg
END:VEVENT
END:VCALENDAR