BEGIN:VCALENDAR
VERSION:2.0
PRODID:-//Waalse Kerk Arnhem - ECPv6.15.20//NONSGML v1.0//EN
CALSCALE:GREGORIAN
METHOD:PUBLISH
X-ORIGINAL-URL:https://waalsekerkarnhem.nl
X-WR-CALDESC:Evenementen voor Waalse Kerk Arnhem
REFRESH-INTERVAL;VALUE=DURATION:PT1H
X-Robots-Tag:noindex
X-PUBLISHED-TTL:PT1H
BEGIN:VTIMEZONE
TZID:Europe/Amsterdam
BEGIN:DAYLIGHT
TZOFFSETFROM:+0100
TZOFFSETTO:+0200
TZNAME:CEST
DTSTART:20250330T010000
END:DAYLIGHT
BEGIN:STANDARD
TZOFFSETFROM:+0200
TZOFFSETTO:+0100
TZNAME:CET
DTSTART:20251026T010000
END:STANDARD
BEGIN:DAYLIGHT
TZOFFSETFROM:+0100
TZOFFSETTO:+0200
TZNAME:CEST
DTSTART:20260329T010000
END:DAYLIGHT
BEGIN:STANDARD
TZOFFSETFROM:+0200
TZOFFSETTO:+0100
TZNAME:CET
DTSTART:20261025T010000
END:STANDARD
BEGIN:DAYLIGHT
TZOFFSETFROM:+0100
TZOFFSETTO:+0200
TZNAME:CEST
DTSTART:20270328T010000
END:DAYLIGHT
BEGIN:STANDARD
TZOFFSETFROM:+0200
TZOFFSETTO:+0100
TZNAME:CET
DTSTART:20271031T010000
END:STANDARD
END:VTIMEZONE
BEGIN:VEVENT
DTSTART;TZID=Europe/Amsterdam:20260222T170000
DTEND;TZID=Europe/Amsterdam:20260222T180000
DTSTAMP:20260423T135608
CREATED:20251207T140909Z
LAST-MODIFIED:20260118T100617Z
UID:2484-1771779600-1771783200@waalsekerkarnhem.nl
SUMMARY:Kerkdienst - 22/02/2026
DESCRIPTION:Op de eerste zondag van de 40-dagen-tijd zullen we speciale muziek hiervoor late horen. \n\n\n\nProgramma• Ave Maris Stelle (Delibes)• Agnus Dei (Delibes)• Ave Verum (Fauré)• Cantique de Jean Racine (Fauré) \n\n\n\n\n\n\n\n \n\n\n\n\n\n\n\nDe muziek wordt gespeeld door een gelegenheidstrio: Lucas van Helsdingen (sopraan saxofoon)\, Margreet van der Heyden (alt viool)\, Zwaan Stam (piano). \n\n\n\nVoorganger: Joanne VrijhofOrgel: Wim Roelfsema \n\n\n\nNa de kerkdienst ontmoeten wij elkaar tijdens de vin d’amitié onder het genot van een drankje.  \n\n\n\n\n\n\n\n\n\n\n\nVoorganger: Joost RöselaersLector: Charles FlipseOrgel: Wim Roelfsema \n\n\n\nNa de kerkdienst ontmoeten wij elkaar tijdens de vin d’amitié onder het genot van een drankje.
URL:https://waalsekerkarnhem.nl/event/kerkdienst-22-02-2026/
LOCATION:Waalse Kerk\, Gasthuisstraat 1\, Arnhem\, 6811 DZ
CATEGORIES:Kerkdiensten
ATTACH;FMTTYPE=image/jpeg:https://waalsekerkarnhem.nl/wp-content/uploads/2024/10/Event-Joanne.jpg
END:VEVENT
END:VCALENDAR